BEGIN:VCALENDAR
PRODID:-//Microsoft Corporation//Outlook 12.0 MIMEDIR//EN
VERSION:2.0
METHOD:PUBLISH
X-MS-OLK-FORCEINSPECTOROPEN:TRUE
BEGIN:VEVENT
CLASS:PUBLIC
CREATED:20260420T142201Z
DESCRIPTION: Redefine what’s possible with AI-powered process-led automation strategies. Navigate through complex digital landscapes with insights from IBM’s Lauren Mayes, Program Director of Content Services Product Management and IRPA AI’s Senior Advisor, Rohail Khan.   This webinar unpacks the intersection of content services, intelligent automation and how process-led focus catalyzes growth. Many organizations are adopting RPA to drive scalability and efficiency in their respective operations and are seeking to scale these solutions with artificial intelligence to go beyond the routine gains they can achieve.  The challenge is that organizations are at vastly different stages of maturity creating a competitive advantage for those that innovate while creating business risk for those that lag. Organizations must accelerate the pace of their business transformation efforts to achieve more scale and agility while minimizing costs and OpEx.  During this session we will cover: 1. The strategic integration of AI with Content Services 2. Deploying process-led strategies for end-to-end automation 3. Case studies showcasing transformational successes\n
DTSTART:20230922T170000
DTEND:20230922T180000
DTSTAMP:20260420T142201Z
LOCATION:Online
PRIORITY:5
SEQUENCE:0
SUMMARY;LANGUAGE=es-es:Tecnowebinars.com - :: Reinventando la automatización con IA, Servicios de Contenido y RPA según IBM
TRANSP:OPAQUE
UID:83eae07638aef6289371f5bc1de3c2dd Tecnowebinars.com
X-MICROSOFT-CDO-BUSYSTATUS:BUSY
X-MICROSOFT-CDO-IMPORTANCE:1
X-MICROSOFT-DISALLOW-COUNTER:FALSE
X-MS-OLK-ALLOWEXTERNCHECK:TRUE
X-MS-OLK-AUTOFILLLOCATION:FALSE
X-MS-OLK-CONFTYPE:0
BEGIN:VALARM
TRIGGER:-PT1440M
ACTION:DISPLAY
DESCRIPTION:Reminder
END:VALARM
END:VEVENT
END:VCALENDAR
