BEGIN:VCALENDAR
PRODID:-//Microsoft Corporation//Outlook 12.0 MIMEDIR//EN
VERSION:2.0
METHOD:PUBLISH
X-MS-OLK-FORCEINSPECTOROPEN:TRUE
BEGIN:VEVENT
CLASS:PUBLIC
CREATED:20260420T142012Z
DESCRIPTION: \nAbout This Webinar\nAnsys enhanced its meshing capabilities over the years. In this webinar, we'll review the enhancements for Ansys meshing over the past two releases. It includes robust solid meshing controls, enhanced shell meshing and weld modeling capabilities, and new features.\nWhat You Will Learn\nAdvancements in Tet Meshing\nEnhancement in hex meshing\nMesh quality worksheet\nNew features: Feature Suppress, Feature Detection, Stacker\nWho Should Attend\nThis session will help all the FEA simulation users who spend significant time preparing FEA models using Ansys Meshing tools and features.\nSpeaker\nBharat Deorukhkar\n
DTSTART:20230914T073000
DTEND:20230914T083000
DTSTAMP:20260420T142012Z
LOCATION:Online
PRIORITY:5
SEQUENCE:0
SUMMARY;LANGUAGE=es-es:Tecnowebinars.com - :: Ansys 2023 R1/R2: Ansys FEA Meshing What’s New
TRANSP:OPAQUE
UID:c733f755baeb61659a9ef34100337b7b Tecnowebinars.com
X-MICROSOFT-CDO-BUSYSTATUS:BUSY
X-MICROSOFT-CDO-IMPORTANCE:1
X-MICROSOFT-DISALLOW-COUNTER:FALSE
X-MS-OLK-ALLOWEXTERNCHECK:TRUE
X-MS-OLK-AUTOFILLLOCATION:FALSE
X-MS-OLK-CONFTYPE:0
BEGIN:VALARM
TRIGGER:-PT1440M
ACTION:DISPLAY
DESCRIPTION:Reminder
END:VALARM
END:VEVENT
END:VCALENDAR
