BEGIN:VCALENDAR
PRODID:-//Microsoft Corporation//Outlook 12.0 MIMEDIR//EN
VERSION:2.0
METHOD:PUBLISH
X-MS-OLK-FORCEINSPECTOROPEN:TRUE
BEGIN:VEVENT
CLASS:PUBLIC
CREATED:20260420T141910Z
DESCRIPTION:Selecting the right customer relationship management (CRM) software is crucial for your business, enabling you to boost sales and enhance customer service seamlessly. It not only refines your marketing strategies but also fosters a superior customer experience, steering your business toward sustained growth and adaptability in a fluctuating market.\n \nDuring the session, Mehdi Aftahi, TEC’s CTO, will delve deep into the intricacies of CRM software. While demonstrating the main functionalities of CRM systems, Mehdi will use TEC's proprietary decision support system TECAdvisor to compare CRM solutions side by side to uncover the potential strengths and weaknesses of different solutions according to set business priorities. Attendees will witness firsthand a head-to-head comparison of two or more CRM products, producing different types of analyses and reports of these systems' functionality coverage.\n \nDuring this webinar, you will learn how to:\n \n⦁	Generate detailed, side-by-side CRM software comparisons according to your prioritized needs.\n⦁	Visualize and analyze all factors influencing your CRM selection decision, from functionality to costs.\n⦁	Seamlessly conduct insightful what-if analyses by dynamically setting different priorities.\n⦁	Delve deep into varying levels of CRM functionality for a thorough and nuanced analysis.\n⦁	Identify CRM solutions that do not meet your minimum business requirements.\n \nJoin us to learn how to harness the power of TECAdvisor to compare different CRM software so you can select the solution that best meets both your immediate business needs and aligns with your long-term business goals.\n \nTalking points:\n⦁	Generate detailed, side-by-side CRM software comparisons according to your prioritized needs.\n⦁	Visualize and analyze all factors influencing your CRM selection decision, from functionality to costs.\n⦁	Seamlessly conduct insightful what-if analyses by dynamically setting different priorities.\n⦁	Delve deep into varying levels of CRM functionality for a thorough and nuanced analysis.\n⦁	Identify CRM solutions that do not meet your minimum business requirements.\n \n
DTSTART:20230928T180000
DTEND:20230928T193000
DTSTAMP:20260420T141910Z
LOCATION:Online
PRIORITY:5
SEQUENCE:0
SUMMARY;LANGUAGE=es-es:Tecnowebinars.com - :: Side-by-side CRM Software Comparison
TRANSP:OPAQUE
UID:5878d0bad19d349e3ea764fcb6be9433 Tecnowebinars.com
X-MICROSOFT-CDO-BUSYSTATUS:BUSY
X-MICROSOFT-CDO-IMPORTANCE:1
X-MICROSOFT-DISALLOW-COUNTER:FALSE
X-MS-OLK-ALLOWEXTERNCHECK:TRUE
X-MS-OLK-AUTOFILLLOCATION:FALSE
X-MS-OLK-CONFTYPE:0
BEGIN:VALARM
TRIGGER:-PT1440M
ACTION:DISPLAY
DESCRIPTION:Reminder
END:VALARM
END:VEVENT
END:VCALENDAR
