BEGIN:VCALENDAR
PRODID:-//Microsoft Corporation//Outlook 12.0 MIMEDIR//EN
VERSION:2.0
METHOD:PUBLISH
X-MS-OLK-FORCEINSPECTOROPEN:TRUE
BEGIN:VEVENT
CLASS:PUBLIC
CREATED:20260420T143208Z
DESCRIPTION: “Around the World With Secure Identity”\n \nwill feature expert sessions on the identity industry’s most crucial topics. Join the brightest minds in biometrics and digital identity, including:\nEva Velasquez, President & CEO, Identity Theft Resource Center (ITRC)\nMaxine Most, Principal, Acuity Market Intelligence\nSimon Horswell, Fraud Specialist Manager & Expert Document Examiner, Onfido\nStuart Wells, Chief Technology Officer, Jumio\nJay Meier, Senior Vice President Operations North America, FaceTec\nDanielle VanZandt, Security Industry Manager, Frost & Sullivan\nMore speakers will be announced in the coming weeks\n
DTSTART:20230927T170000
DTEND:20230927T180000
DTSTAMP:20260420T143208Z
LOCATION:Online
PRIORITY:5
SEQUENCE:0
SUMMARY;LANGUAGE=es-es:Tecnowebinars.com - :: Identidad Biométrica Digital. Conferencia Online.
TRANSP:OPAQUE
UID:0a069b1e6b4187ca36dee09e36a945dc Tecnowebinars.com
X-MICROSOFT-CDO-BUSYSTATUS:BUSY
X-MICROSOFT-CDO-IMPORTANCE:1
X-MICROSOFT-DISALLOW-COUNTER:FALSE
X-MS-OLK-ALLOWEXTERNCHECK:TRUE
X-MS-OLK-AUTOFILLLOCATION:FALSE
X-MS-OLK-CONFTYPE:0
BEGIN:VALARM
TRIGGER:-PT1440M
ACTION:DISPLAY
DESCRIPTION:Reminder
END:VALARM
END:VEVENT
END:VCALENDAR
