BEGIN:VCALENDAR
PRODID:-//Microsoft Corporation//Outlook 12.0 MIMEDIR//EN
VERSION:2.0
METHOD:PUBLISH
X-MS-OLK-FORCEINSPECTOROPEN:TRUE
BEGIN:VEVENT
CLASS:PUBLIC
CREATED:20260420T142523Z
DESCRIPTION:Artificial intelligence developers have made huge strides in recent months, transforming a wide variety of human endeavors. Unfortunately, that includes ransomware.  \n \nJoin this webinar and get expert insights and forecasts about the trends we can expect to see as ransomware—already a significant and costly threat—gains new, AI-based capabilities, including:\n \nExtreme customisation of phishing, smishing, and email attacks.\nRelentless, automated attacks that could make current security strategies obsolete.\nExtreme optimisation of attacks, from finding vulnerabilities to ransom negotiations.\n \nPlus, see how you can fight back against the coming wave of threats using advanced strategies that incorporate AI.\n \nLike all technologies, AI can be used with good or ill intent. Register for this important webinar to understand how both threats and defensive strategies are being transformed by the AI revolution. \n \nSpeakers:\nFleming Shi\nCTO\nBarracuda Networks\nAnastasia Hurley\nPrincipal Product Marketing Manager\nBarracuda Networks\nKaushal Misra\nCTO, Strategic Clients\nMicrosoft\n
DTSTART:20230907T110000
DTEND:20230907T120000
DTSTAMP:20260420T142523Z
LOCATION:Online
PRIORITY:5
SEQUENCE:0
SUMMARY;LANGUAGE=es-es:Tecnowebinars.com - :: Ramsonware con IA. Lo que se está viendo.
TRANSP:OPAQUE
UID:7421e4b2725fd8807c07557f3b48bb55 Tecnowebinars.com
X-MICROSOFT-CDO-BUSYSTATUS:BUSY
X-MICROSOFT-CDO-IMPORTANCE:1
X-MICROSOFT-DISALLOW-COUNTER:FALSE
X-MS-OLK-ALLOWEXTERNCHECK:TRUE
X-MS-OLK-AUTOFILLLOCATION:FALSE
X-MS-OLK-CONFTYPE:0
BEGIN:VALARM
TRIGGER:-PT1440M
ACTION:DISPLAY
DESCRIPTION:Reminder
END:VALARM
END:VEVENT
END:VCALENDAR
