BEGIN:VCALENDAR
PRODID:-//Microsoft Corporation//Outlook 12.0 MIMEDIR//EN
VERSION:2.0
METHOD:PUBLISH
X-MS-OLK-FORCEINSPECTOROPEN:TRUE
BEGIN:VEVENT
CLASS:PUBLIC
CREATED:20260420T142625Z
DESCRIPTION:Nintex + SA Partners: Best practices for implementing Nintex Process Manager\nRe-join this presentation of our popular webinar, brought to you by Nintex and SA Partners, and uncover the best practices for implementing Nintex Process Manager. This webinar is a rerun intended for those who caught it the first time but may have missed some crucial points, as well as for newcomers interested in understanding the level of support they can anticipate as they navigate, adapt, and foster engagement.\nIn this session we will cover:\nThe transformative effect of effective onboarding and training\nHow to identify the key stakeholders and their roles\nThe importance of building solid foundations for sustainable success and methods to achieve this\nThis is another chance for you to grasp all the essentials, in case you missed anything during the initial run. Don’t miss this opportunity to gain a deeper insight into Process Management with Nintex.\nFeaturing\nMercedes OConnor\nSr. Account Manager, Nintex\nIshan Sellahewa\n
DTSTART:20230906T120000
DTEND:20230906T130000
DTSTAMP:20260420T142625Z
LOCATION:Online
PRIORITY:5
SEQUENCE:0
SUMMARY;LANGUAGE=es-es:Tecnowebinars.com - :: Mejores prácticas para implementar Nintex Process Manager
TRANSP:OPAQUE
UID:4b01b4ca6e5834ad39961f8049de792a Tecnowebinars.com
X-MICROSOFT-CDO-BUSYSTATUS:BUSY
X-MICROSOFT-CDO-IMPORTANCE:1
X-MICROSOFT-DISALLOW-COUNTER:FALSE
X-MS-OLK-ALLOWEXTERNCHECK:TRUE
X-MS-OLK-AUTOFILLLOCATION:FALSE
X-MS-OLK-CONFTYPE:0
BEGIN:VALARM
TRIGGER:-PT1440M
ACTION:DISPLAY
DESCRIPTION:Reminder
END:VALARM
END:VEVENT
END:VCALENDAR
