BEGIN:VCALENDAR
PRODID:-//Microsoft Corporation//Outlook 12.0 MIMEDIR//EN
VERSION:2.0
METHOD:PUBLISH
X-MS-OLK-FORCEINSPECTOROPEN:TRUE
BEGIN:VEVENT
CLASS:PUBLIC
CREATED:20260420T143438Z
DESCRIPTION: Whether it is tooling innovations, process innovations or — more specifically — innovations in geometries, coatings, substrates and edge prep, there is a much greater opportunity to reduce overall costs with new manufacturing technology. Instead of focusing on the upfront tooling costs, the mindset should be switched to reducing the cost per part in relation to factors like downtime, tool changes, process consistency, process optimization or machine movement optimization. Now is the time to start with the end in mind: investing in tooling innovations early on to increase your bottom line.\nJoin Allied Machine and Engineering in this webinar to learn more about how specific innovations and technology have made a difference in reducing cost per part.\nAgenda:\nReview overall workpiece cost and break it down\nHow to put your focus on the right area to get your cost down: are you focusing on pennies and overlooking the dollars?\nDiscuss unique tooling innovations that will help improve productivity and reduce workpiece cost\nPresenter 1:\nJamie Rosenberger\n \nDirector of Marketing\nJamie Rosenberger is currently the director of marketing at Allied Machine and Engineering. In her 19 years at Allied, she has gained industry experience as an application engineer and product manager. Jamie has a bachelor's degree in mechanical engineering and a master's degree in education from Kent State University\n
DTSTART:20230912T170000
DTEND:20230912T180000
DTSTAMP:20260420T143438Z
LOCATION:Online
PRIORITY:5
SEQUENCE:0
SUMMARY;LANGUAGE=es-es:Tecnowebinars.com - :: Start With the End in Mind: How Innovations Can Increase Your Bottom Line
TRANSP:OPAQUE
UID:8db65b458c9e711a24d492d03e35b84a Tecnowebinars.com
X-MICROSOFT-CDO-BUSYSTATUS:BUSY
X-MICROSOFT-CDO-IMPORTANCE:1
X-MICROSOFT-DISALLOW-COUNTER:FALSE
X-MS-OLK-ALLOWEXTERNCHECK:TRUE
X-MS-OLK-AUTOFILLLOCATION:FALSE
X-MS-OLK-CONFTYPE:0
BEGIN:VALARM
TRIGGER:-PT1440M
ACTION:DISPLAY
DESCRIPTION:Reminder
END:VALARM
END:VEVENT
END:VCALENDAR
