BEGIN:VCALENDAR
PRODID:-//Microsoft Corporation//Outlook 12.0 MIMEDIR//EN
VERSION:2.0
METHOD:PUBLISH
X-MS-OLK-FORCEINSPECTOROPEN:TRUE
BEGIN:VEVENT
CLASS:PUBLIC
CREATED:20260424T212312Z
DESCRIPTION: Businesses recognize the need for automation as the world of work rapidly evolves with increasing data. Join our webinar to learn how to create smarter business processes by automating workflows, unlocking insights, and enhancing experiences. \n \nWe will cover: \n \n 	· Latest trends and use cases for leveraging AI and cloud-based automation solutions \n \n· Best practices and success stories \n \n· Insights on how AI will share the future of intelligent automation \n \nDiscover how your organization can stay ahead of the times with intelligent automation.\n
DTSTART:20230601T170000
DTEND:20230601T180000
DTSTAMP:20260424T212312Z
LOCATION:Online
PRIORITY:5
SEQUENCE:0
SUMMARY;LANGUAGE=es-es:Tecnowebinars.com - :: AI  y Cloud para automatización de procesos según Kofax
TRANSP:OPAQUE
UID:a0315b37591b5f68c319a607febf0fde Tecnowebinars.com
X-MICROSOFT-CDO-BUSYSTATUS:BUSY
X-MICROSOFT-CDO-IMPORTANCE:1
X-MICROSOFT-DISALLOW-COUNTER:FALSE
X-MS-OLK-ALLOWEXTERNCHECK:TRUE
X-MS-OLK-AUTOFILLLOCATION:FALSE
X-MS-OLK-CONFTYPE:0
BEGIN:VALARM
TRIGGER:-PT1440M
ACTION:DISPLAY
DESCRIPTION:Reminder
END:VALARM
END:VEVENT
END:VCALENDAR
