BEGIN:VCALENDAR
PRODID:-//Microsoft Corporation//Outlook 12.0 MIMEDIR//EN
VERSION:2.0
METHOD:PUBLISH
X-MS-OLK-FORCEINSPECTOROPEN:TRUE
BEGIN:VEVENT
CLASS:PUBLIC
CREATED:20260423T193436Z
DESCRIPTION: Nearly twice as many manufacturers are more worried that customers will increase factory orders than they are about sales going down – the clearest sign yet that the chaotic market conditions of the past three years are persisting and we’re nowhere near back to business as usual.   \n \nRootstock’s massive survey of manufacturers, the “North America Manufacturing ERP Survey,” shows how stressed companies continue to be with top concerns centered around personnel, production levels and disruption.  \n \nAnd companies are turning to ERP and other software systems to alleviate that pressure. Nearly 75% of manufacturers plan to significantly expand software spending this year with about one-third of those looking at double-digit spending boosts. Staying competitive in that market is going to demand a deep understanding of what technologies are available and how to embrace them without spending too much, shutting down production or tapping into computer science professionals that manufacturers struggle to recruit.  \n \nJoin us May 18 at 1 p.m. (eastern) to hear from robotics manufacturing giant Boston Dynamics about their software-driving digital transformation and benchmark your technology spend efforts against your peers.  \n \nAttendees will learn: \n \n- Most manufacturers think they’re ahead of the curve, technologically, or way ahead of the curve. They can’t all be right! \n- Where companies plan to invest their software budgets in the near future. \n- How to overcome the IT/OT divide that’s become a bigger barrier to getting things done in manufacturing. \n- Future-proofing your technology infrastructure. It’s a top priority for many of your peers.\n
DTSTART:20230518T190000
DTEND:20230518T200000
DTSTAMP:20260423T193436Z
LOCATION:Online
PRIORITY:5
SEQUENCE:0
SUMMARY;LANGUAGE=es-es:Tecnowebinars.com - :: La importancia de un ERP para afrontar el crecimiento en empresas de Fabricación
TRANSP:OPAQUE
UID:cedf147d96470bb0debaa16dd0a599b5 Tecnowebinars.com
X-MICROSOFT-CDO-BUSYSTATUS:BUSY
X-MICROSOFT-CDO-IMPORTANCE:1
X-MICROSOFT-DISALLOW-COUNTER:FALSE
X-MS-OLK-ALLOWEXTERNCHECK:TRUE
X-MS-OLK-AUTOFILLLOCATION:FALSE
X-MS-OLK-CONFTYPE:0
BEGIN:VALARM
TRIGGER:-PT1440M
ACTION:DISPLAY
DESCRIPTION:Reminder
END:VALARM
END:VEVENT
END:VCALENDAR
