BEGIN:VCALENDAR
PRODID:-//Microsoft Corporation//Outlook 12.0 MIMEDIR//EN
VERSION:2.0
METHOD:PUBLISH
X-MS-OLK-FORCEINSPECTOROPEN:TRUE
BEGIN:VEVENT
CLASS:PUBLIC
CREATED:20260424T092605Z
DESCRIPTION:An average company uses a variety of solutions to help customers tap into its resources safely and appropriately. You might have some tools that allow your consumers to sign in to your digital tools, others that track what users do while they're on your website, and a third set that records the purchases your customers make in-person and online.\nA customer identity and access management system, or CIAM, allows you to harness all of the data you have about your customers in one safe, secure spot.\n\nJoin this webinar with Jim Katsos, Senior Manager, Solutions Engineering from Okta, to hear the capabilities of a typical CIAM product:\nRegistration: By registering with your CIAM system, customers can access your website, your apps, your database, and more.\nEase of return: A CIAM system allows for single sign-on (SSO), so a consumer can head almost anywhere with one set of credentials.\nOngoing conversations: Each time a user does something within your ecosystem, your CIAM solution tracks that. With enough data, you can tailor your marketing content for that person, pushing them into your purchase funnel\n
DTSTART:20230126T010000
DTEND:20230126T020000
DTSTAMP:20260424T092605Z
LOCATION:Online
PRIORITY:5
SEQUENCE:0
SUMMARY;LANGUAGE=es-es:Tecnowebinars.com - :: EspreSSO Series: What is CIAM?
TRANSP:OPAQUE
UID:2003ba0a94366386138abe6b5902ce40 Tecnowebinars.com
X-MICROSOFT-CDO-BUSYSTATUS:BUSY
X-MICROSOFT-CDO-IMPORTANCE:1
X-MICROSOFT-DISALLOW-COUNTER:FALSE
X-MS-OLK-ALLOWEXTERNCHECK:TRUE
X-MS-OLK-AUTOFILLLOCATION:FALSE
X-MS-OLK-CONFTYPE:0
BEGIN:VALARM
TRIGGER:-PT1440M
ACTION:DISPLAY
DESCRIPTION:Reminder
END:VALARM
END:VEVENT
END:VCALENDAR
