BEGIN:VCALENDAR
PRODID:-//Microsoft Corporation//Outlook 12.0 MIMEDIR//EN
VERSION:2.0
METHOD:PUBLISH
X-MS-OLK-FORCEINSPECTOROPEN:TRUE
BEGIN:VEVENT
CLASS:PUBLIC
CREATED:20260423T182010Z
DESCRIPTION:Enterprises across all industries are in the midst of difficult, bet-the-company changes called digital transformation. Such transformation comes with the risk that slow, traditionally run IT organizations can’t keep up with the faster, customer-facing digital efforts. How can IT adapt? Join Jason Bloomberg from Intellyx and OutSystems to learn how to bridge the gap between the ‘old’ way of doing IT and the ‘new,’ more innovative and customer-focused approach that digital efforts require. You will learn how to empower self-service app development and resolve issues with shadow IT.\n
DTSTART:20160419T180000
DTEND:20160419T190000
DTSTAMP:20260423T182010Z
LOCATION:Online
PRIORITY:5
SEQUENCE:0
SUMMARY;LANGUAGE=es-es:Tecnowebinars.com - :: Removing Roadblocks to Digital Transformation
TRANSP:OPAQUE
UID:c02af9bac75dd58865ca007c896e8018 Tecnowebinars.com
X-MICROSOFT-CDO-BUSYSTATUS:BUSY
X-MICROSOFT-CDO-IMPORTANCE:1
X-MICROSOFT-DISALLOW-COUNTER:FALSE
X-MS-OLK-ALLOWEXTERNCHECK:TRUE
X-MS-OLK-AUTOFILLLOCATION:FALSE
X-MS-OLK-CONFTYPE:0
BEGIN:VALARM
TRIGGER:-PT1440M
ACTION:DISPLAY
DESCRIPTION:Reminder
END:VALARM
END:VEVENT
END:VCALENDAR
