BEGIN:VCALENDAR
PRODID:-//Microsoft Corporation//Outlook 12.0 MIMEDIR//EN
VERSION:2.0
METHOD:PUBLISH
X-MS-OLK-FORCEINSPECTOROPEN:TRUE
BEGIN:VEVENT
CLASS:PUBLIC
CREATED:20260421T013508Z
DESCRIPTION:Tableau Software ha lanzado la beta de la versión 9.3 evolucionando el producto hacia la creación de análisis visuales por parte del usuario de negocio, lo que denominan "Analítica visual autoservicio".\nKeyrus, consultora especializada en Tableau, hace en este webinar un repaso a las principales novedades que está añadiendo Tableau a su software. \nLo hará de una forma muy práctica y posteriormente abrirán un turno de preguntas.\nDurante el webinar se hablará de:\n-Análisis en tiempo real a medida de un modo intuitivo gracias a su capacidad de diseño en modo Autoservicio\n- Capacidad visual avanzada con novedades muy atractivas en Geolocalización\n- Entorno colaborativo enriquecido con gran autonomía en Movilidad\n- Toda la potencia de calculo al servicio de la experiencia de usuario\n
DTSTART:20160316T100000
DTEND:20160316T110000
DTSTAMP:20260421T013508Z
LOCATION:Online
PRIORITY:5
SEQUENCE:0
SUMMARY;LANGUAGE=es-es:Tecnowebinars.com - :: Novedades en Tableau. Taller práctico. Por Keyrus.
TRANSP:OPAQUE
UID:6c995623b329856990c4f8285a33058e Tecnowebinars.com
X-MICROSOFT-CDO-BUSYSTATUS:BUSY
X-MICROSOFT-CDO-IMPORTANCE:1
X-MICROSOFT-DISALLOW-COUNTER:FALSE
X-MS-OLK-ALLOWEXTERNCHECK:TRUE
X-MS-OLK-AUTOFILLLOCATION:FALSE
X-MS-OLK-CONFTYPE:0
BEGIN:VALARM
TRIGGER:-PT1440M
ACTION:DISPLAY
DESCRIPTION:Reminder
END:VALARM
END:VEVENT
END:VCALENDAR
