BEGIN:VCALENDAR
PRODID:-//Microsoft Corporation//Outlook 12.0 MIMEDIR//EN
VERSION:2.0
METHOD:PUBLISH
X-MS-OLK-FORCEINSPECTOROPEN:TRUE
BEGIN:VEVENT
CLASS:PUBLIC
CREATED:20260424T035152Z
DESCRIPTION:Cybersecurity professionals have endured many challenges this year, including record-setting ransomware attacks, expanded attack surfaces, and shortages of skilled IT security personnel. However, we’ve seen security budgets rebound, increased reliance on cloud security deployments, and increased adoption of promising security technologies, such as zero trust network access (ZTNA), API security, and network/endpoint deception.\nSo, what does next year have in store for the cybersecurity industry? Join Steve Piper, Founder & CEO of CyberEdge (and proud CISSP), as he shares his top five cybersecurity predictions for 2023.\n
DTSTART:20221207T180000
DTEND:20221207T190000
DTSTAMP:20260424T035152Z
LOCATION:Online
PRIORITY:5
SEQUENCE:0
SUMMARY;LANGUAGE=es-es:Tecnowebinars.com - :: Top Five Cybersecurity Predictions for 2023
TRANSP:OPAQUE
UID:4408dec891ddf47647c73d9b0fc4e734 Tecnowebinars.com
X-MICROSOFT-CDO-BUSYSTATUS:BUSY
X-MICROSOFT-CDO-IMPORTANCE:1
X-MICROSOFT-DISALLOW-COUNTER:FALSE
X-MS-OLK-ALLOWEXTERNCHECK:TRUE
X-MS-OLK-AUTOFILLLOCATION:FALSE
X-MS-OLK-CONFTYPE:0
BEGIN:VALARM
TRIGGER:-PT1440M
ACTION:DISPLAY
DESCRIPTION:Reminder
END:VALARM
END:VEVENT
END:VCALENDAR
