BEGIN:VCALENDAR
PRODID:-//Microsoft Corporation//Outlook 12.0 MIMEDIR//EN
VERSION:2.0
METHOD:PUBLISH
X-MS-OLK-FORCEINSPECTOROPEN:TRUE
BEGIN:VEVENT
CLASS:PUBLIC
CREATED:20260419T231643Z
DESCRIPTION:VER VIDEO \n \n¿Te sentiste desorientado durante la pandemia con las situaciones que fueron surgiendo?\n \nSituaciones conflictivas existen en todas las empresas. Se sumaron nuevas por la pandemia y la incertidumbre que se instaló. Se necesita “aggiornar” las clásicas herramientas.\n \nEl objetivo es que los conflictos clásicos o nuevos sean cada vez más espaciados, menos intensos, de menor duración y con menores costos (económicos, emocionales y de tiempo)\n \nEn este webinar mostraremos qué cosas han cambiado y qué herramientas se puedes aplicar.\n \nDirigido a: Dueños y ejecutivos de alta dirección, gerentes, encargados de áreas de trabajo, todos los que en la empresa gestionan personas, profesionales vinculados a las actividades de las empresas, consultores.\n \nVER VIDEO  \n
DTSTART:20200516T170000
DTEND:20200516T180000
DTSTAMP:20260419T231643Z
LOCATION:Online
PRIORITY:5
SEQUENCE:0
SUMMARY;LANGUAGE=es-es:Tecnowebinars.com - :: Gestión de conflictos en “la nueva normalidad”
TRANSP:OPAQUE
UID:0f7077cec3ee0343cc0089bbf379cff4 Tecnowebinars.com
X-MICROSOFT-CDO-BUSYSTATUS:BUSY
X-MICROSOFT-CDO-IMPORTANCE:1
X-MICROSOFT-DISALLOW-COUNTER:FALSE
X-MS-OLK-ALLOWEXTERNCHECK:TRUE
X-MS-OLK-AUTOFILLLOCATION:FALSE
X-MS-OLK-CONFTYPE:0
BEGIN:VALARM
TRIGGER:-PT1440M
ACTION:DISPLAY
DESCRIPTION:Reminder
END:VALARM
END:VEVENT
END:VCALENDAR
