BEGIN:VCALENDAR
PRODID:-//Microsoft Corporation//Outlook 12.0 MIMEDIR//EN
VERSION:2.0
METHOD:PUBLISH
X-MS-OLK-FORCEINSPECTOROPEN:TRUE
BEGIN:VEVENT
CLASS:PUBLIC
CREATED:20260419T093841Z
DESCRIPTION:Traditionally API governance has been viewed as a hindrance to growth and innovation. However, with more and more businesses moving to an API-first strategy, governance has become a key part of an enterprise’s competitive strategy. When done effectively, modern API governance strategies lay the foundation for a stable, secure and scalable business.\nJoin us on 30th March 2021 as we discuss:\n \n• What is API governance?\n• How does a robust API governance strategy benefit your business?\n• How can you implement API governance strategies within your organisation?\n• What role can an API management platform (like Tyk) play in bringing these strategies to fruition?\n \n
DTSTART:20210330T123000
DTEND:20210330T133000
DTSTAMP:20260419T093841Z
LOCATION:Online
PRIORITY:5
SEQUENCE:0
SUMMARY;LANGUAGE=es-es:Tecnowebinars.com - :: Rethinking API governance to power your API-first business strategy
TRANSP:OPAQUE
UID:fcae7198d440cbd94544d674b7b0d2cb Tecnowebinars.com
X-MICROSOFT-CDO-BUSYSTATUS:BUSY
X-MICROSOFT-CDO-IMPORTANCE:1
X-MICROSOFT-DISALLOW-COUNTER:FALSE
X-MS-OLK-ALLOWEXTERNCHECK:TRUE
X-MS-OLK-AUTOFILLLOCATION:FALSE
X-MS-OLK-CONFTYPE:0
BEGIN:VALARM
TRIGGER:-PT1440M
ACTION:DISPLAY
DESCRIPTION:Reminder
END:VALARM
END:VEVENT
END:VCALENDAR
