BEGIN:VCALENDAR
PRODID:-//Microsoft Corporation//Outlook 12.0 MIMEDIR//EN
VERSION:2.0
METHOD:PUBLISH
X-MS-OLK-FORCEINSPECTOROPEN:TRUE
BEGIN:VEVENT
CLASS:PUBLIC
CREATED:20260419T093840Z
DESCRIPTION:The machine tool industry's answer to clamping workpieces has always been the soft/vise jaw—a "must-have" for any operation. But if you stop to think about it, soft jaws cost time and money to create, set up, change, and store.\nWhat if you could eliminate the time and money spent designing, making, and storing your soft/vise jaws or fixtures within your machine tool?\n \nWhat if you could also reduce the setup and changeover time required for milling various shaped parts?\n \nWhat if you had an alternative solution that performed on-par or even better than an aluminum soft jaw in terms of clamping and repeatability?\n \nThe Norgren Workholding team has addressed the "what-ifs" listed above. Gone are the days of creating, storing, and searching for existing soft jaws in your facility. Born from Norgren's own workholding needs, learn how you too can improve your own bottom line by saving time, saving money, and getting a grip on the future of workholding.\n \nAgenda:\nReview of current, sub-optimal vise workholding environment\nIntroduction of alternative, universal workholding solution\nReview industry data\nDemonstrate ROI for alternative workholding solution\n \nPresenter:\nTom Wood\nSenior Director, Growth Initiatives; Norgren, Inc.\n
DTSTART:20210406T130000
DTEND:20210406T140000
DTSTAMP:20260419T093840Z
LOCATION:Online
PRIORITY:5
SEQUENCE:0
SUMMARY;LANGUAGE=es-es:Tecnowebinars.com - :: Reduce Costs and Improve Your Bottom Line: Get a Grip on the Future of Workholding
TRANSP:OPAQUE
UID:973ddd186266a339f8acfaf5da99628e Tecnowebinars.com
X-MICROSOFT-CDO-BUSYSTATUS:BUSY
X-MICROSOFT-CDO-IMPORTANCE:1
X-MICROSOFT-DISALLOW-COUNTER:FALSE
X-MS-OLK-ALLOWEXTERNCHECK:TRUE
X-MS-OLK-AUTOFILLLOCATION:FALSE
X-MS-OLK-CONFTYPE:0
BEGIN:VALARM
TRIGGER:-PT1440M
ACTION:DISPLAY
DESCRIPTION:Reminder
END:VALARM
END:VEVENT
END:VCALENDAR
