BEGIN:VCALENDAR
PRODID:-//Microsoft Corporation//Outlook 12.0 MIMEDIR//EN
VERSION:2.0
METHOD:PUBLISH
X-MS-OLK-FORCEINSPECTOROPEN:TRUE
BEGIN:VEVENT
CLASS:PUBLIC
CREATED:20260419T120937Z
DESCRIPTION:Learn how you can integrate Ansys SCADE, a model-based embedded software development tool, and Ansys Minerva, the Ansys enterprise-level process and data management solution, to provide an effective development platform to meet safety-critical challenges.\n
DTSTART:20210316T160000
DTEND:20210316T170000
DTSTAMP:20260419T120937Z
LOCATION:Online
PRIORITY:5
SEQUENCE:0
SUMMARY;LANGUAGE=es-es:Tecnowebinars.com - :: Centralized Data and Processes for Safety-Critical Development
TRANSP:OPAQUE
UID:0bd2ba2fb45541ffadb67b55f532ee77 Tecnowebinars.com
X-MICROSOFT-CDO-BUSYSTATUS:BUSY
X-MICROSOFT-CDO-IMPORTANCE:1
X-MICROSOFT-DISALLOW-COUNTER:FALSE
X-MS-OLK-ALLOWEXTERNCHECK:TRUE
X-MS-OLK-AUTOFILLLOCATION:FALSE
X-MS-OLK-CONFTYPE:0
BEGIN:VALARM
TRIGGER:-PT1440M
ACTION:DISPLAY
DESCRIPTION:Reminder
END:VALARM
END:VEVENT
END:VCALENDAR
