BEGIN:VCALENDAR
PRODID:-//Microsoft Corporation//Outlook 12.0 MIMEDIR//EN
VERSION:2.0
METHOD:PUBLISH
X-MS-OLK-FORCEINSPECTOROPEN:TRUE
BEGIN:VEVENT
CLASS:PUBLIC
CREATED:20260419T115342Z
DESCRIPTION:Uncertainty is an understatement in the world of supply chain. The sharing of ideas has never been more important, leaning from peers has never been more critical.\n \nAs such, Reuters Events and SAP Ariba host an exclusive wortkshop: Building a Procurement & Sourcing Strategy Fit for Purpose (In Partnership with SAP Ariba).\n \nWhat is the conversation about:\n \nUnderstand the importance of moving away from heavy dependency on single sourcing from suppliers and countries that is slowing down your complex supply chain networks\nFoster cross department collaboration through data visibility to speed up the procurement process and enhance your supply chain’s agility\nFind out how with increasing focus on environmental sustainability, supplier diversity and wider ethical concerns it is business critical you truly understand your entire procurement network\n
DTSTART:20210325T180000
DTEND:20210325T193000
DTSTAMP:20260419T115342Z
LOCATION:Online
PRIORITY:5
SEQUENCE:0
SUMMARY;LANGUAGE=es-es:Tecnowebinars.com - :: Building a Procurement & Sourcing Strategy Fit for Purpose (In Partnership with SAP Ariba)
TRANSP:OPAQUE
UID:3367fc03a8723f7833309c0cc6632e58 Tecnowebinars.com
X-MICROSOFT-CDO-BUSYSTATUS:BUSY
X-MICROSOFT-CDO-IMPORTANCE:1
X-MICROSOFT-DISALLOW-COUNTER:FALSE
X-MS-OLK-ALLOWEXTERNCHECK:TRUE
X-MS-OLK-AUTOFILLLOCATION:FALSE
X-MS-OLK-CONFTYPE:0
BEGIN:VALARM
TRIGGER:-PT1440M
ACTION:DISPLAY
DESCRIPTION:Reminder
END:VALARM
END:VEVENT
END:VCALENDAR
