BEGIN:VCALENDAR
PRODID:-//Microsoft Corporation//Outlook 12.0 MIMEDIR//EN
VERSION:2.0
METHOD:PUBLISH
X-MS-OLK-FORCEINSPECTOROPEN:TRUE
BEGIN:VEVENT
CLASS:PUBLIC
CREATED:20260419T115342Z
DESCRIPTION:Uncertainty is an understatement in the world of supply chain. The sharing of ideas has never been more important, learning from peers has never been more critical.\nAs such, Reuters Events and Fujitsu host an exclusive workshop: Industry 4.0 and the Rise of the Smart Factory (In Partnership with Fujitsu).\nWhat is the conversation about:\nRe-evaluate and build resiliency into your current manufacturing operational model to ensure business continuity in the face of ongoing risks\nUnderstand how to gain quick and easy wins by digitizing factory processes and prioritising transformative change to evolve into a smarter factory\nBake in capacity so that you are equipped to deal with fluctuations in demand to deliver product for your customers\n
DTSTART:20210325T150000
DTEND:20210325T163000
DTSTAMP:20260419T115342Z
LOCATION:Online
PRIORITY:5
SEQUENCE:0
SUMMARY;LANGUAGE=es-es:Tecnowebinars.com - :: Industry 4.0 and the Rise of the Smart Factory (In Partnership with Fujitsu)
TRANSP:OPAQUE
UID:c829a4fcc1da04886a45280bddbf2fec Tecnowebinars.com
X-MICROSOFT-CDO-BUSYSTATUS:BUSY
X-MICROSOFT-CDO-IMPORTANCE:1
X-MICROSOFT-DISALLOW-COUNTER:FALSE
X-MS-OLK-ALLOWEXTERNCHECK:TRUE
X-MS-OLK-AUTOFILLLOCATION:FALSE
X-MS-OLK-CONFTYPE:0
BEGIN:VALARM
TRIGGER:-PT1440M
ACTION:DISPLAY
DESCRIPTION:Reminder
END:VALARM
END:VEVENT
END:VCALENDAR
