BEGIN:VCALENDAR
PRODID:-//Microsoft Corporation//Outlook 12.0 MIMEDIR//EN
VERSION:2.0
METHOD:PUBLISH
X-MS-OLK-FORCEINSPECTOROPEN:TRUE
BEGIN:VEVENT
CLASS:PUBLIC
CREATED:20260419T114208Z
DESCRIPTION:No pierdas la oportunidad de descubrir en directo, cómo el Edge Computing es una pieza clave en tu estrategia de transformación digital que te permite alojar cargas de trabajo en cualquier infraestructura (nube pública, nube privada, virtualización, bare metal...) y en cualquier escenario. \nDurante esta sesión podrás conocer cómo Red Hat puede ayudar a resolver los retos que supone la adopción de arquitecturas edge a gran escala. Compartiremos casos de éxito de los sectores de Energía, Industria 4.0, Administración Pública, etc. \n \nContenidos\n \n•	¿Qué es Red Hat? \n•	¿Por qué Edge Computing en tu viaje de transformación digital? \n•	La importancia del código abierto para tus proyectos futuros de Edge \n•	¿Por qué Red Hat es el aliado perfecto en tu viaje al Edge Computing? \n•	Del Data Center al Far Edge: visión Red Hat \no	Escalabilidad \no	Interoperabilidad\no	Arquitecturas de tiempo real\n
DTSTART:20210316T100000
DTEND:20210316T110000
DTSTAMP:20260419T114208Z
LOCATION:Online
PRIORITY:5
SEQUENCE:0
SUMMARY;LANGUAGE=es-es:Tecnowebinars.com - :: Un viaje al Edge Computing con Red Hat
TRANSP:OPAQUE
UID:d55171d05e4a075a0e03a6faf0c90e24 Tecnowebinars.com
X-MICROSOFT-CDO-BUSYSTATUS:BUSY
X-MICROSOFT-CDO-IMPORTANCE:1
X-MICROSOFT-DISALLOW-COUNTER:FALSE
X-MS-OLK-ALLOWEXTERNCHECK:TRUE
X-MS-OLK-AUTOFILLLOCATION:FALSE
X-MS-OLK-CONFTYPE:0
BEGIN:VALARM
TRIGGER:-PT1440M
ACTION:DISPLAY
DESCRIPTION:Reminder
END:VALARM
END:VEVENT
END:VCALENDAR
