BEGIN:VCALENDAR
PRODID:-//Microsoft Corporation//Outlook 12.0 MIMEDIR//EN
VERSION:2.0
METHOD:PUBLISH
X-MS-OLK-FORCEINSPECTOROPEN:TRUE
BEGIN:VEVENT
CLASS:PUBLIC
CREATED:20260419T114208Z
DESCRIPTION:Join this webinar to explore how metal 3D printing transforms the manufacturing environment.\nAlong with an interactive Q&A, Desktop Metal will explore customer success stories and application examples from among the hundreds of installations of their metal 3D printing systems around the world.\n \nAgenda\nEliminate CNC machining bottlenecks by printing tooling\nPrint mold inserts, extrusion dies, sheet metal tooling\nImprove performance and reliability through lightweight, end-of-arm tooling\n \nSpeaker:\nEthan Rejto\nTechnical Marketing Manager\n
DTSTART:20210325T200000
DTEND:20210325T210000
DTSTAMP:20260419T114208Z
LOCATION:Online
PRIORITY:5
SEQUENCE:0
SUMMARY;LANGUAGE=es-es:Tecnowebinars.com - :: Metal 3D Printing for the Manufacturing Floor
TRANSP:OPAQUE
UID:c8f4333dab953388cee80ac7e4c82dcf Tecnowebinars.com
X-MICROSOFT-CDO-BUSYSTATUS:BUSY
X-MICROSOFT-CDO-IMPORTANCE:1
X-MICROSOFT-DISALLOW-COUNTER:FALSE
X-MS-OLK-ALLOWEXTERNCHECK:TRUE
X-MS-OLK-AUTOFILLLOCATION:FALSE
X-MS-OLK-CONFTYPE:0
BEGIN:VALARM
TRIGGER:-PT1440M
ACTION:DISPLAY
DESCRIPTION:Reminder
END:VALARM
END:VEVENT
END:VCALENDAR
