BEGIN:VCALENDAR
PRODID:-//Microsoft Corporation//Outlook 12.0 MIMEDIR//EN
VERSION:2.0
METHOD:PUBLISH
X-MS-OLK-FORCEINSPECTOROPEN:TRUE
BEGIN:VEVENT
CLASS:PUBLIC
CREATED:20260419T114208Z
DESCRIPTION:This webinar highlights how to use Ansys optiSLang to gain the most insight into a HFSS 3D Layout differential via design for performance optimization. Additionally, we will discuss optiSLang’s role in  analyzing how manufacturing tolerances impact the yield of fabricated devices.\n \nDuring the webinar, using a sensitivity analysis, optiSLang will create a metamodel describing the differential via performance over all possible geometry combinations in the design space. This metamodel will assess which of the input parameters have the largest impact on the device response, allowing users to narrow the design space. Additionally, the differential via performance will be enhanced using the insight of the metamodel and prevents getting stuck in a local optimum.\n \nAdditionally, using robustness analysis in optiSLang, we will explore how manufacturing tolerances will impact the yield of the optimized differential via. The robustness analysis will show what percentage of manufactured devices fails a specified design requirement. This analysis will also indicate which of the manufacturing tolerances must be improved in order to increase the yield.\n
DTSTART:20210311T160000
DTEND:20210311T170000
DTSTAMP:20260419T114208Z
LOCATION:Online
PRIORITY:5
SEQUENCE:0
SUMMARY;LANGUAGE=es-es:Tecnowebinars.com - :: Differential Via Optimization with Ansys HFSS 3D Layout and Ansys optiSLang
TRANSP:OPAQUE
UID:f9a0ae9992768338292d2b115af542e7 Tecnowebinars.com
X-MICROSOFT-CDO-BUSYSTATUS:BUSY
X-MICROSOFT-CDO-IMPORTANCE:1
X-MICROSOFT-DISALLOW-COUNTER:FALSE
X-MS-OLK-ALLOWEXTERNCHECK:TRUE
X-MS-OLK-AUTOFILLLOCATION:FALSE
X-MS-OLK-CONFTYPE:0
BEGIN:VALARM
TRIGGER:-PT1440M
ACTION:DISPLAY
DESCRIPTION:Reminder
END:VALARM
END:VEVENT
END:VCALENDAR
