BEGIN:VCALENDAR
PRODID:-//Microsoft Corporation//Outlook 12.0 MIMEDIR//EN
VERSION:2.0
METHOD:PUBLISH
X-MS-OLK-FORCEINSPECTOROPEN:TRUE
BEGIN:VEVENT
CLASS:PUBLIC
CREATED:20260419T114208Z
DESCRIPTION:Superalloys are a fascinating class of materials for high-performance applications in aerospace and automotive products and in offshore and chemical processing. These have excellent mechanical properties, such as strength and resistance to thermal creep, as well as resistance to corrosion and oxidation.\n \nThis webinar spotlights the material properties of Ni-based superalloys and how these materials perform in challenging conditions. Examples of material selection where Ni and Co based alloys are needed are showcased using the aerospace advanced database available in Ansys Granta EduPack. In one case, we will consider the effects of hypersonic velocities, which are experienced by the fuselage of the X-15 aircraft at Mach 6, to the thermo-mechanical performance of the materials.\n \nLearn about the fascinating properties exhibited by superalloys in aerospace and automotive products and the information available in the aerospace database.\nDiscover how Granta EduPack can be used to compare and select materials for challenging thermo-mechanical applications.\nExplore engaging examples and demonstrations for how to make the most of the software in education and design.\nSpeakers: Dr. Claes Fredriksson, Luca Masi\n
DTSTART:20210310T170000
DTEND:20210310T180000
DTSTAMP:20260419T114208Z
LOCATION:Online
PRIORITY:5
SEQUENCE:0
SUMMARY;LANGUAGE=es-es:Tecnowebinars.com - :: Properties and Selection of Superalloys
TRANSP:OPAQUE
UID:43d9b84fc3435e211948615a42d48c9d Tecnowebinars.com
X-MICROSOFT-CDO-BUSYSTATUS:BUSY
X-MICROSOFT-CDO-IMPORTANCE:1
X-MICROSOFT-DISALLOW-COUNTER:FALSE
X-MS-OLK-ALLOWEXTERNCHECK:TRUE
X-MS-OLK-AUTOFILLLOCATION:FALSE
X-MS-OLK-CONFTYPE:0
BEGIN:VALARM
TRIGGER:-PT1440M
ACTION:DISPLAY
DESCRIPTION:Reminder
END:VALARM
END:VEVENT
END:VCALENDAR
