BEGIN:VCALENDAR
PRODID:-//Microsoft Corporation//Outlook 12.0 MIMEDIR//EN
VERSION:2.0
METHOD:PUBLISH
X-MS-OLK-FORCEINSPECTOROPEN:TRUE
BEGIN:VEVENT
CLASS:PUBLIC
CREATED:20260419T115342Z
DESCRIPTION:En estas 2 sesiones específicamente dedicadas a la producción en serie, Oscar Alcay, Responsable Comercial Cataluña en ABAS Ibérica explicará las mejores prácticas para empresas de producción en serie y como a través de las herramientas que proporciona abas ERP podemos optimizar procesos del día a día. Jordi Soler Consulting Manager en ABAS Ibérica animará una demostración en vivo de abas ERP.\n \nPara tener una visión amplia de todos los procesos que abarcan la producción en serie, hemos diseñado el webinar en 2 sesiones. La primera enfocada a la optimización de procesos en la operativa diaria en la que cobra importancia la configuración y preparación del producto con las listas de producción, la integración de los procesos de negocio como por ejemplo con la integración de EDI en el ERP y el cálculo de necesidades.\n \nEn una segunda sesión incidiremos en todo lo relativo a la planificación y el control de la producción, la captura de datos en planta, el control de calidad y pautas de Autocontrol, concluyendo finalmente en un análisis de costes de producción.\n
DTSTART:20210326T100000
DTEND:20210326T110000
DTSTAMP:20260419T115342Z
LOCATION:Online
PRIORITY:5
SEQUENCE:0
SUMMARY;LANGUAGE=es-es:Tecnowebinars.com - :: Planificación y control de la producción en la fabricación en serie con ERP ABAS
TRANSP:OPAQUE
UID:6f724e4e703df456a59f80aece119e0a Tecnowebinars.com
X-MICROSOFT-CDO-BUSYSTATUS:BUSY
X-MICROSOFT-CDO-IMPORTANCE:1
X-MICROSOFT-DISALLOW-COUNTER:FALSE
X-MS-OLK-ALLOWEXTERNCHECK:TRUE
X-MS-OLK-AUTOFILLLOCATION:FALSE
X-MS-OLK-CONFTYPE:0
BEGIN:VALARM
TRIGGER:-PT1440M
ACTION:DISPLAY
DESCRIPTION:Reminder
END:VALARM
END:VEVENT
END:VCALENDAR
