BEGIN:VCALENDAR
PRODID:-//Microsoft Corporation//Outlook 12.0 MIMEDIR//EN
VERSION:2.0
METHOD:PUBLISH
X-MS-OLK-FORCEINSPECTOROPEN:TRUE
BEGIN:VEVENT
CLASS:PUBLIC
CREATED:20260419T114301Z
DESCRIPTION:IFS Food es una norma de seguridad alimentaria reconocida por la Global Food Safety Initiative (GFSI), cuyo objetivo es establecer el contenido básico de un sistema de calidad y seguridad alimentaria, para producir alimentos seguros para los consumidores. Este standard es aplicable a todos los proveedores de alimentos de marca de distribuidor.\n \nA inicios de 2019, la Global Food Safety Initiative (GFSI) publicó la versión 2020 de sus requisitos de evaluación comparativa. Esto significa que esquemas de certificación como IFS , BRCGS y FSSC 22000, actualmente evaluados y reconocidos por GFSI, deberán alinearse con los requisitos de evaluación comparativa e incluir estas nuevas reglas si desean mantener este reconocimiento.\n \nComo respuesta a esta nueva exigencia planteada por GFSI, IFS el pasado mes de octubre publico la nueva versión de IFS Food , que entrara en vigor de manera obligatoria a partir del 01/07/2021.\n \nIFS Food se ha desarrollado con la participación plena y activa de las entidades de certificación, minoristas, industria de la alimentación y empresas del sector servicios.\n \nObjetivos del Webinar: Cambios y novedades en la nueva versión IFS v7\n \nEl objetivo de la presente sesión virtual es aproximar a todos los asistentes a los cambios y novedades establecidos por la nueva edición de la noma IFS Food v7 , los cuales se han desarrollado para adaptarse a las exigencias de GFSI.\n \nA quien va dirigido:\n \nGerentes y directores de área, personal encargado de la Calidad y la Seguridad Alimentaria y Operaciones en empresas agroalimentarias.\n \n
DTSTART:20210311T100000
DTEND:20210311T110000
DTSTAMP:20260419T114301Z
LOCATION:Online
PRIORITY:5
SEQUENCE:0
SUMMARY;LANGUAGE=es-es:Tecnowebinars.com - :: IFS Food: Cambios y novedades
TRANSP:OPAQUE
UID:d7cfa77d1de1484e94658adc459ca9a9 Tecnowebinars.com
X-MICROSOFT-CDO-BUSYSTATUS:BUSY
X-MICROSOFT-CDO-IMPORTANCE:1
X-MICROSOFT-DISALLOW-COUNTER:FALSE
X-MS-OLK-ALLOWEXTERNCHECK:TRUE
X-MS-OLK-AUTOFILLLOCATION:FALSE
X-MS-OLK-CONFTYPE:0
BEGIN:VALARM
TRIGGER:-PT1440M
ACTION:DISPLAY
DESCRIPTION:Reminder
END:VALARM
END:VEVENT
END:VCALENDAR
