BEGIN:VCALENDAR
PRODID:-//Microsoft Corporation//Outlook 12.0 MIMEDIR//EN
VERSION:2.0
METHOD:PUBLISH
X-MS-OLK-FORCEINSPECTOROPEN:TRUE
BEGIN:VEVENT
CLASS:PUBLIC
CREATED:20260419T114300Z
DESCRIPTION:The challenges of deploying 3D vision systems have limited its widespread adoption. From a lack of quality 3D vision tools to the need for an external PC to overcome processing limitations, 3D inspections technology is typically too complex, time consuming, and costly to deploy. However, the latest advancements in 3D vision technology overcome many of these challenges. \nIn this webinar, we'll discuss these advancements and why 3D is finally as easy to use as 2D to solve guidance, inspection, and measurements applications accurately, simply, and reliably.\n
DTSTART:20210316T110000
DTEND:20210316T120000
DTSTAMP:20260419T114300Z
LOCATION:Online
PRIORITY:5
SEQUENCE:0
SUMMARY;LANGUAGE=es-es:Tecnowebinars.com - :: Inspecciones 3D con visión artificial simplificadas
TRANSP:OPAQUE
UID:2dbbea06f26fb76ba39964b953827b88 Tecnowebinars.com
X-MICROSOFT-CDO-BUSYSTATUS:BUSY
X-MICROSOFT-CDO-IMPORTANCE:1
X-MICROSOFT-DISALLOW-COUNTER:FALSE
X-MS-OLK-ALLOWEXTERNCHECK:TRUE
X-MS-OLK-AUTOFILLLOCATION:FALSE
X-MS-OLK-CONFTYPE:0
BEGIN:VALARM
TRIGGER:-PT1440M
ACTION:DISPLAY
DESCRIPTION:Reminder
END:VALARM
END:VEVENT
END:VCALENDAR
