BEGIN:VCALENDAR
PRODID:-//Microsoft Corporation//Outlook 12.0 MIMEDIR//EN
VERSION:2.0
METHOD:PUBLISH
X-MS-OLK-FORCEINSPECTOROPEN:TRUE
BEGIN:VEVENT
CLASS:PUBLIC
CREATED:20260419T131443Z
DESCRIPTION:Learn how to leverage easy-to-use and powerful automation software to provide your employees and office visitors with a safe digital sign-in process that includes the government’s latest COVID-19 guidelines.\nDuring this 60-minute interactive session, you will learn how to quickly and easily automate your COVID-19 guideline awareness process to ensure everyone who visits your location/s is presented with critical health and safety guidelines in a fully digital format. This will make it easy to review and digitally sign as well as to ensure you are in compliance with the latest government COVID-19 protocols.\n \nAttendees will:\n \nExperience the ease and automation power of the Nintex Process Platform in real-time\nSee first-hand how to automate the COVID-19 sign-in process which includes routing COVID-19 guidelines via a digital workflow as well as capturing and storing digital signatures\nSecure your spot today as space is limited.\n
DTSTART:20210223T110000
DTEND:20210223T120000
DTSTAMP:20260419T131443Z
LOCATION:Online
PRIORITY:5
SEQUENCE:0
SUMMARY;LANGUAGE=es-es:Tecnowebinars.com - :: Digitise Your Company’s COVID-19 Sign-In Process to Keep Visitors Safe
TRANSP:OPAQUE
UID:7911d2f5a72fa7078bf07258e99feffd Tecnowebinars.com
X-MICROSOFT-CDO-BUSYSTATUS:BUSY
X-MICROSOFT-CDO-IMPORTANCE:1
X-MICROSOFT-DISALLOW-COUNTER:FALSE
X-MS-OLK-ALLOWEXTERNCHECK:TRUE
X-MS-OLK-AUTOFILLLOCATION:FALSE
X-MS-OLK-CONFTYPE:0
BEGIN:VALARM
TRIGGER:-PT1440M
ACTION:DISPLAY
DESCRIPTION:Reminder
END:VALARM
END:VEVENT
END:VCALENDAR
