BEGIN:VCALENDAR
PRODID:-//Microsoft Corporation//Outlook 12.0 MIMEDIR//EN
VERSION:2.0
METHOD:PUBLISH
X-MS-OLK-FORCEINSPECTOROPEN:TRUE
BEGIN:VEVENT
CLASS:PUBLIC
CREATED:20260419T131442Z
DESCRIPTION:El futuro ya está aquí, SENER Aeroespacial y GA-ASI lo entendieron así cuando hace más de una década crearon su alianza en torno a los sistemas RPAs MALE de altas prestaciones.\n \nDesde ese momento, su seña de identidad ha sido la transferencia de conocimientos operacionales y tecnológicos, así como la colaboración industrial para crear capacidades e impulsar productos nacionales, con posibilidades de exportación.\n \nUNVEX Live ha invitado a los expertos de ambas empresas para hablar de lo que está por venir en el desarrollo de soluciones a medida, como es el caso del MQ-9 y del versátil NATO Pod.\n \nPonentes: \n \n 	- Rafael Orbe, director de Defensa de SENER Aeroespacial.\n \n 	- Robert Davis, Vicepresidente, Puente Global Defense Solutions, Inc.   \n \n- Christophe Fontaine, Director Regional de GA-ASI para Europa (intervención en inglés).\n \n 	- Tcol Juan José Terrados, Jefe del Grupo de Fuerzas Aéreas RPAS, del Ala 23 del Ejército del Aire. \n \n \n
DTSTART:20210223T220000
DTEND:20210223T230000
DTSTAMP:20260419T131442Z
LOCATION:Online
PRIORITY:5
SEQUENCE:0
SUMMARY;LANGUAGE=es-es:Tecnowebinars.com - :: Sener Aeroespacial y General Atomics explican el dron MQ-9 (Predator), la nueva "estrella" militar
TRANSP:OPAQUE
UID:0c2eafaf1edcde08b10da49dd5108919 Tecnowebinars.com
X-MICROSOFT-CDO-BUSYSTATUS:BUSY
X-MICROSOFT-CDO-IMPORTANCE:1
X-MICROSOFT-DISALLOW-COUNTER:FALSE
X-MS-OLK-ALLOWEXTERNCHECK:TRUE
X-MS-OLK-AUTOFILLLOCATION:FALSE
X-MS-OLK-CONFTYPE:0
BEGIN:VALARM
TRIGGER:-PT1440M
ACTION:DISPLAY
DESCRIPTION:Reminder
END:VALARM
END:VEVENT
END:VCALENDAR
