BEGIN:VCALENDAR
PRODID:-//Microsoft Corporation//Outlook 12.0 MIMEDIR//EN
VERSION:2.0
METHOD:PUBLISH
X-MS-OLK-FORCEINSPECTOROPEN:TRUE
BEGIN:VEVENT
CLASS:PUBLIC
CREATED:20260419T130554Z
DESCRIPTION:Real-time visibility has quickly become a staple for supply chains and the technology is evolving rapidly. From connection options to visibility results, there are a few common questions we hear from Fortune 100 supply chains to small and midsize logistics service providers alike. \nThis webinar will cover:\n \nPros and cons of different visibility connection methods\nData sources across different modes and geographies\nThe difference between EDI and API, and when to choose each\nHow to gain quality visibility data and how ETAs are calculated\nHow to accelerate visibility results and ROI\nThe topics supply chain leaders ask most when evaluating visibility solution\n
DTSTART:20210224T140000
DTEND:20210224T150000
DTSTAMP:20260419T130554Z
LOCATION:Online
PRIORITY:5
SEQUENCE:0
SUMMARY;LANGUAGE=es-es:Tecnowebinars.com - :: Top 10 Supply Chain Visibility Questions Answered
TRANSP:OPAQUE
UID:61e7698f7e72415872cb685d40fb1a1f Tecnowebinars.com
X-MICROSOFT-CDO-BUSYSTATUS:BUSY
X-MICROSOFT-CDO-IMPORTANCE:1
X-MICROSOFT-DISALLOW-COUNTER:FALSE
X-MS-OLK-ALLOWEXTERNCHECK:TRUE
X-MS-OLK-AUTOFILLLOCATION:FALSE
X-MS-OLK-CONFTYPE:0
BEGIN:VALARM
TRIGGER:-PT1440M
ACTION:DISPLAY
DESCRIPTION:Reminder
END:VALARM
END:VEVENT
END:VCALENDAR
