BEGIN:VCALENDAR
PRODID:-//Microsoft Corporation//Outlook 12.0 MIMEDIR//EN
VERSION:2.0
METHOD:PUBLISH
X-MS-OLK-FORCEINSPECTOROPEN:TRUE
BEGIN:VEVENT
CLASS:PUBLIC
CREATED:20260419T131528Z
DESCRIPTION:The last year has shown that the world is an ever-changing place, meaning consumers’ wants are also a moving target. As consumer needs evolve closely linked to cultural, socio-economic, and health factors, so must CPG and retail brands.\nThe combination of new location data streams and spatial data science techniques opens up a new array of opportunities for CPG data and marketing professionals seeking where to prioritize in terms of ramping up distribution and identifying POS (points of sale).\n \nIn this webinar, our speakers Argyrios Kyrgiazos (Data Scientist at CARTO) and Lyden Foust (CEO of Spatial.ai) will walk us through a real-life case study on how to leverage new types of spatial data, such as social media behavior, to define a methodology to select the optimal areas for the rollout of organic products in New York City and Philadelphia, enabling CPG firms to see where they may have gaps in their POS networks.\n \nWhat you’ll learn:\n \n- How to combine new location data streams and spatial data science techniques to define more optimal strategies for the distribution of consumer goods.\n- How CPG brands can place their products as close as possible to areas with the greatest potential demand to ensure increased sales and ROI.\n \nSpeakers:\nArgyrios Kyrgiazos\nData Scientist at CARTO\nLyden Foust\nCEO of Spatial.ai\n
DTSTART:20210225T170000
DTEND:20210225T180000
DTSTAMP:20260419T131528Z
LOCATION:Online
PRIORITY:5
SEQUENCE:0
SUMMARY;LANGUAGE=es-es:Tecnowebinars.com - :: Geoemplazamiento de locales de retail con CARTO y spatial.io
TRANSP:OPAQUE
UID:b7754db439c963715dbe66f75a07ec09 Tecnowebinars.com
X-MICROSOFT-CDO-BUSYSTATUS:BUSY
X-MICROSOFT-CDO-IMPORTANCE:1
X-MICROSOFT-DISALLOW-COUNTER:FALSE
X-MS-OLK-ALLOWEXTERNCHECK:TRUE
X-MS-OLK-AUTOFILLLOCATION:FALSE
X-MS-OLK-CONFTYPE:0
BEGIN:VALARM
TRIGGER:-PT1440M
ACTION:DISPLAY
DESCRIPTION:Reminder
END:VALARM
END:VEVENT
END:VCALENDAR
