BEGIN:VCALENDAR
PRODID:-//Microsoft Corporation//Outlook 12.0 MIMEDIR//EN
VERSION:2.0
METHOD:PUBLISH
X-MS-OLK-FORCEINSPECTOROPEN:TRUE
BEGIN:VEVENT
CLASS:PUBLIC
CREATED:20260419T130559Z
DESCRIPTION:In our popular "Automation 101" webinar, Epson helped guide automation professionals with a simple step-by-step framework for getting started with robotics. Automation 201 picks up where 101 left off by taking a deeper dive into the critical topic of understanding your project requirements and their associated performance trade-offs. Whether you are new to automation or a seasoned veteran, this webinar will leave you with business-ready insights based on Epson's nearly four decades of experience and leadership in industrial robotics.\n1. Automation 101 Recap\n2. Know what you are trying to accomplish\n3. Explore your requirements and their trade-offs\n4. Return on investment considerations\n \nWhat you will take away from this webinar:\n \nAutomation 201 will provide both new and experienced automation professionals with insight and understanding around core automation requirements and their associated performance trade-offs.\n \nSpeaker:\nScott Marsic\nSr. Product Manager\nEpson Robots\n \nScott Marsic has over two decades experience successfully transforming diagnostic, technical and business intelligence products into innovative, market-leading goods and services. As Sr. Product Manager at Epson America, Scott is responsible for developing strategic initiatives to help drive channel growth and end user demand across the industrial robotics product category. Scott holds a BS from the University of California, Santa Cruz, a MS from the University of Southern California, and an MBA from San Francisco State University.\n
DTSTART:20210224T180000
DTEND:20210224T190000
DTSTAMP:20260419T130559Z
LOCATION:Online
PRIORITY:5
SEQUENCE:0
SUMMARY;LANGUAGE=es-es:Tecnowebinars.com - :: Robótica para la Industria según Epson
TRANSP:OPAQUE
UID:d233fb6eec2afdc482de2ccaf7747b66 Tecnowebinars.com
X-MICROSOFT-CDO-BUSYSTATUS:BUSY
X-MICROSOFT-CDO-IMPORTANCE:1
X-MICROSOFT-DISALLOW-COUNTER:FALSE
X-MS-OLK-ALLOWEXTERNCHECK:TRUE
X-MS-OLK-AUTOFILLLOCATION:FALSE
X-MS-OLK-CONFTYPE:0
BEGIN:VALARM
TRIGGER:-PT1440M
ACTION:DISPLAY
DESCRIPTION:Reminder
END:VALARM
END:VEVENT
END:VCALENDAR
