BEGIN:VCALENDAR
PRODID:-//Microsoft Corporation//Outlook 12.0 MIMEDIR//EN
VERSION:2.0
METHOD:PUBLISH
X-MS-OLK-FORCEINSPECTOROPEN:TRUE
BEGIN:VEVENT
CLASS:PUBLIC
CREATED:20260419T131551Z
DESCRIPTION:VER VIDEO \n \nEn esta ponencia Luis Vilanova Blanco, socio fundador de www.tasacioninformatica.com, especializados en valoración económica de proyectos y negocios informáticos/digitales, nos explicará cómo poder valorar o tasar económicamente un activo web, app, software, etc con una metodología propia basada en estudio del negocio y estudio tecnológico, según el objetivo que se necesite.\n \nCon decenas de valoraciones de proyectos y negocios digitales, para principales despachos de abogados, incubadoras de empresas, startups, multinacionales y pymes, los informes emitidos por www.tasacioninformatica.com han sido de utilidad para la búsqueda de inversores, entrada o salida de socios, valoración de acciones, venta del activo/negocio digital a terceros, juicios, concursos de acreedores, aportación no dineraria a sociedades, … y otras muchas utilidades.\n \nVER VIDEO\n
DTSTART:20210225T160000
DTEND:20210225T170000
DTSTAMP:20260419T131551Z
LOCATION:Online
PRIORITY:5
SEQUENCE:0
SUMMARY;LANGUAGE=es-es:Tecnowebinars.com - :: Tasación de activos y negocios digitales (software, webs, apps, etc...)
TRANSP:OPAQUE
UID:9570e02a8b16cdd5daf8ce58e62796da Tecnowebinars.com
X-MICROSOFT-CDO-BUSYSTATUS:BUSY
X-MICROSOFT-CDO-IMPORTANCE:1
X-MICROSOFT-DISALLOW-COUNTER:FALSE
X-MS-OLK-ALLOWEXTERNCHECK:TRUE
X-MS-OLK-AUTOFILLLOCATION:FALSE
X-MS-OLK-CONFTYPE:0
BEGIN:VALARM
TRIGGER:-PT1440M
ACTION:DISPLAY
DESCRIPTION:Reminder
END:VALARM
END:VEVENT
END:VCALENDAR
