BEGIN:VCALENDAR
PRODID:-//Microsoft Corporation//Outlook 12.0 MIMEDIR//EN
VERSION:2.0
METHOD:PUBLISH
X-MS-OLK-FORCEINSPECTOROPEN:TRUE
BEGIN:VEVENT
CLASS:PUBLIC
CREATED:20260419T130554Z
DESCRIPTION:Today, there's a lot of buzz about cloud-native databases and how essential their capabilities are when moving data analytics workloads to the cloud. On-premises-only databases are rare, while cloud-only databases are common. In this webinar from our Thought Leadership Series, we'll deconstruct the propaganda around cloud-native databases and discuss their place in your design of analytical systems.\nWe'll discuss Deployment, Compute and Storage Separation, Autoscaling, Ease of Admin, Analytics, and Data Governance, and learn how to deal with concerns like GDPR and other privacy regulations, vendor lock-in, pricing predictability, and more in your analytical database design.\n \n
DTSTART:20210218T163000
DTEND:20210218T173000
DTSTAMP:20260419T130554Z
LOCATION:Online
PRIORITY:5
SEQUENCE:0
SUMMARY;LANGUAGE=es-es:Tecnowebinars.com - :: Save your seat: Probing the Concept of Cloud-Native Databases
TRANSP:OPAQUE
UID:59ea7322ff6f8e5e1cf9cb52804446e8 Tecnowebinars.com
X-MICROSOFT-CDO-BUSYSTATUS:BUSY
X-MICROSOFT-CDO-IMPORTANCE:1
X-MICROSOFT-DISALLOW-COUNTER:FALSE
X-MS-OLK-ALLOWEXTERNCHECK:TRUE
X-MS-OLK-AUTOFILLLOCATION:FALSE
X-MS-OLK-CONFTYPE:0
BEGIN:VALARM
TRIGGER:-PT1440M
ACTION:DISPLAY
DESCRIPTION:Reminder
END:VALARM
END:VEVENT
END:VCALENDAR
