BEGIN:VCALENDAR
PRODID:-//Microsoft Corporation//Outlook 12.0 MIMEDIR//EN
VERSION:2.0
METHOD:PUBLISH
X-MS-OLK-FORCEINSPECTOROPEN:TRUE
BEGIN:VEVENT
CLASS:PUBLIC
CREATED:20260419T131443Z
DESCRIPTION:The Webinar begins with a brief introduction to EXSYN and AVILYTICS, before demos of the AOG Risk Monitor and Aircraft Reliability modules. You will then see how data is used to provide analysis on maintenance organization efficiency in terms of costs monitoring and process efficiency, via a demo of the Engineering and Maintenance KPI and Logistics Module.  As you will see the E&M KPI real-time dashboards provide insights into: maintenance control support, engineering costs monitoring, planning efficiency and more. The Logistics KPI dashboards focus on: supplier performance, material purchases and component repair costs, and more. Finally, you will see how AVILYTICS can be integrated with any MRO / M&E or company IT solutions and can be onboarded at all airlines, operators and MRO facilities worldwide with any fleet type.\nThe AVILYTICS demos are divided into three key sections:\n \nAVILYTICS Demo 1: AOG Risk Monitor Suite: \nYou will see how to use predictive analytics to build aircraft AOG risk profiles to empower Maintenance Control Centre decision making.  As you will see, real-time analytics dashboards indicate specifically those parts or components installed on the aircraft that are most likely to fail, enabling more informed decision making on day of operations to prevent delays and cancellations.\n \nAVILYTICS Demo 2: Aircraft Reliability Management: \nSimplification and Automation of Reliability Management. As you will see, this module displays the entire scope of an aircraft reliability program (dispatch reliability, repeated defect analysis, findings per ATA chapter, MEL defect monitor, optimal fleet utilization, taskcard finding analysis, and more) in several real-time dashboards eliminating the need for manual reporting.\n \nAVILYTICS Demo 3: Organization Analytics:\nFinally, you will learn about using Engineering & Maintenance KPI’s and advanced logistics analysis to monitor, evaluate and further improve maintenance organization effectiveness. Within this module, data is used to provide insights around: maintenance control support, engineering department performance, engineering costs monitoring, planning efficiency, material purchases, component repair costs, and more.\n \nWebinar Agenda:\n \nShort Introduction to EXSYN Aviation Solutions and AVILYTICS\nAOG Risk Monitor functional walkthrough\nAircraft Reliability functional walkthrough\nOrganizational analytics functional walkthrough based on E&M KPI’s and Logistics suites\nOnboarding process\nQuestions and Answers\n
DTSTART:20210211T080000
DTEND:20210211T090000
DTSTAMP:20260419T131443Z
LOCATION:Online
PRIORITY:5
SEQUENCE:0
SUMMARY;LANGUAGE=es-es:Tecnowebinars.com - :: Mantenimiento de aviones en tiempo real con aircraftIT
TRANSP:OPAQUE
UID:73392470ca1b44fea83ca96f42068d5d Tecnowebinars.com
X-MICROSOFT-CDO-BUSYSTATUS:BUSY
X-MICROSOFT-CDO-IMPORTANCE:1
X-MICROSOFT-DISALLOW-COUNTER:FALSE
X-MS-OLK-ALLOWEXTERNCHECK:TRUE
X-MS-OLK-AUTOFILLLOCATION:FALSE
X-MS-OLK-CONFTYPE:0
BEGIN:VALARM
TRIGGER:-PT1440M
ACTION:DISPLAY
DESCRIPTION:Reminder
END:VALARM
END:VEVENT
END:VCALENDAR
