BEGIN:VCALENDAR
PRODID:-//Microsoft Corporation//Outlook 12.0 MIMEDIR//EN
VERSION:2.0
METHOD:PUBLISH
X-MS-OLK-FORCEINSPECTOROPEN:TRUE
BEGIN:VEVENT
CLASS:PUBLIC
CREATED:20260419T130635Z
DESCRIPTION:¿Nuevo usuario de la plataforma Bonita, con ganas de aprender los principios básicos de Bonita, la plataforma de automatización de procesos de negocio, paso a paso? ¡Nos complace ofrecerles la oportunidad de seguir esta formación gratuita!\nDelphine Coille, Community Manager de Bonita, les guiará paso a paso, desde la apertura de Bonita Studio hasta la creación de la primera aplicación.\nEl Bonita Camp tiene lugar en 2 sesiones de 2 horas repartidas en 2 días: 8 y 9 de febrero.\n \n¿Qué es el Bonita Camp?\nBonita Camp es nuestra sesión gratuita de introducción a la plataforma Bonita. Con Bonita Community Edition, aprenderán a modelar procesos, definir un modelo de datos empresariales y crear conectores y formularios para crear una aplicación completa.\n \n¿Qué aprenderán en el Bonita Camp?\n- Metodología BPM y componentes Bonita\n- Cómo hacer modelado de procesos con el estándar BPMN 2.0\n- Cómo usar Bonita a través de ejercicios prácticos\n \nTodo esto con el beneficio de consejos y recomendaciones de expertos de Bonita.\n
DTSTART:20210208T163000
DTEND:20210208T173000
DTSTAMP:20260419T130635Z
LOCATION:Online
PRIORITY:5
SEQUENCE:0
SUMMARY;LANGUAGE=es-es:Tecnowebinars.com - :: Curso introducción al BPM con Bonita BPM (4 horas)
TRANSP:OPAQUE
UID:eaf9106a3662a063c94adff35c7505b8 Tecnowebinars.com
X-MICROSOFT-CDO-BUSYSTATUS:BUSY
X-MICROSOFT-CDO-IMPORTANCE:1
X-MICROSOFT-DISALLOW-COUNTER:FALSE
X-MS-OLK-ALLOWEXTERNCHECK:TRUE
X-MS-OLK-AUTOFILLLOCATION:FALSE
X-MS-OLK-CONFTYPE:0
BEGIN:VALARM
TRIGGER:-PT1440M
ACTION:DISPLAY
DESCRIPTION:Reminder
END:VALARM
END:VEVENT
END:VCALENDAR
