BEGIN:VCALENDAR
PRODID:-//Microsoft Corporation//Outlook 12.0 MIMEDIR//EN
VERSION:2.0
METHOD:PUBLISH
X-MS-OLK-FORCEINSPECTOROPEN:TRUE
BEGIN:VEVENT
CLASS:PUBLIC
CREATED:20260419T131712Z
DESCRIPTION: VER VIDEO \n \nImpulsado por los gobiernos locales y europeo, la facturación electrónica se generaliza e impone progresivamente en todas las empresas.\n \nCon el objetivo de facilitar la transición a esta modalidad de transmisión de documentos, el estándar PEPPOL es el seleccionado por las administraciones de cada vez mas países, pero también por la comunicación entre empresas del sector privado.                \n \nUna breve demostración de nuestra solución será realizada también con la finalidad de enseñar que la e-facturación puede ser fácilmente puesta en funcionamiento, independientemente del programa de facturación.\n \n  VER VIDEO \n
DTSTART:20210223T160000
DTEND:20210223T170000
DTSTAMP:20260419T131712Z
LOCATION:Online
PRIORITY:5
SEQUENCE:0
SUMMARY;LANGUAGE=es-es:Tecnowebinars.com - :: Facturación electrónica en Europa: La generalización del estándar PEPPOL
TRANSP:OPAQUE
UID:eac35e0fbeebaa42a090ee275f7ec6e5 Tecnowebinars.com
X-MICROSOFT-CDO-BUSYSTATUS:BUSY
X-MICROSOFT-CDO-IMPORTANCE:1
X-MICROSOFT-DISALLOW-COUNTER:FALSE
X-MS-OLK-ALLOWEXTERNCHECK:TRUE
X-MS-OLK-AUTOFILLLOCATION:FALSE
X-MS-OLK-CONFTYPE:0
BEGIN:VALARM
TRIGGER:-PT1440M
ACTION:DISPLAY
DESCRIPTION:Reminder
END:VALARM
END:VEVENT
END:VCALENDAR
