BEGIN:VCALENDAR
PRODID:-//Microsoft Corporation//Outlook 12.0 MIMEDIR//EN
VERSION:2.0
METHOD:PUBLISH
X-MS-OLK-FORCEINSPECTOROPEN:TRUE
BEGIN:VEVENT
CLASS:PUBLIC
CREATED:20260419T131712Z
DESCRIPTION:El pasado día 28 de enero se publicó en el BOE el RD 43/2021, por el que se desarrolla la llamada “Ley NIS”, de seguridad de las redes y sistemas de información. Esta norma supone un antes y un después en el marco regulador de la ciberseguridad y entre otras novedades introduce la exigencia de la creación de la figura del Responsable de Seguridad de la Información (RSI) en empresas e administraciones.\n \nOrganizada por ISACA Madrid y aesYc, el próximo martes día 9 de febrero ambas instituciones organizan un webinar de máximo interés para explicar el alto impacto en la gobernanza de la ciberseguridad de las empresas incluidas en su ámbito de aplicación. Su entrada en vigor supone la necesidad de adaptar y preparar a las empresas al nuevo marco de cumplimiento normativo, ya que en caso contrario se podrían derivar responsabilidades. Además, esta norma puede ser una poderosa herramienta para impulsar las iniciativas destinadas a alcanzar un adecuado nivel de ciberseguridad dentro de las empresas obligadas.\n \nEl día 9, las principales entidades del sector de la seguridad de la información participarán en este primer webinar informativo acerca del reglamento. En él se explicará el contenido más relevante del Rea Decreto y se debatirán sus consecuencias con un panel de expertos en la materia. Moderado por Julio San José, Fundador y Director de Derecho de la Red, entre otros expertos intervendrán:\n \nAlejandro Becerra, CISO de Telefónica\n \nAlonso Hurtado, Socio IT&Compliance de ECIJA y Vicepresidente de ASCOM\n \nElena Matilla, CISO de Red Eléctrica y Presidenta de ACED\n \nVicente Moret, Letrado de las Cortes Generales y Of Counsel de Andersen\n \nFrancisco Pérez Bes, Partner of Digital Law en Ecix Group y Vicepresidente de ENATIC\n \nLa última media hora de la sesión se dedicará a dudas y preguntas de los asistentes.\n \nLa convocatoria se realiza con la colaboración del Centro Criptológico Nacional (CN-CERT), la Asociación Española de Compliance (ASCOM) y la Asociación de Expertos Nacionales de la Abogacía TIC (ENATIC)\n \n
DTSTART:20210209T180000
DTEND:20210209T190000
DTSTAMP:20260419T131712Z
LOCATION:Online
PRIORITY:5
SEQUENCE:0
SUMMARY;LANGUAGE=es-es:Tecnowebinars.com - :: Real Decreto 43/2021 de Ciberseguridad: Impacto en la empresa
TRANSP:OPAQUE
UID:78a28d1533983716382c963dabd33df6 Tecnowebinars.com
X-MICROSOFT-CDO-BUSYSTATUS:BUSY
X-MICROSOFT-CDO-IMPORTANCE:1
X-MICROSOFT-DISALLOW-COUNTER:FALSE
X-MS-OLK-ALLOWEXTERNCHECK:TRUE
X-MS-OLK-AUTOFILLLOCATION:FALSE
X-MS-OLK-CONFTYPE:0
BEGIN:VALARM
TRIGGER:-PT1440M
ACTION:DISPLAY
DESCRIPTION:Reminder
END:VALARM
END:VEVENT
END:VCALENDAR
