BEGIN:VCALENDAR
PRODID:-//Microsoft Corporation//Outlook 12.0 MIMEDIR//EN
VERSION:2.0
METHOD:PUBLISH
X-MS-OLK-FORCEINSPECTOROPEN:TRUE
BEGIN:VEVENT
CLASS:PUBLIC
CREATED:20260419T131712Z
DESCRIPTION:VER VIDEO \n \nSi no se presta atención a la excelencia técnica y al uso de buenas pautas de diseño, la productividad a largo plazo se verá perjudicada especialmente en fases de mantenimiento.\n \nFundamental que el equipo deba tener el conocimiento y las habilidades necesarias para que los cambios en el producto puedan darse de forma rápida.\n \nSe creará así una deuda técnica que es el coste y los intereses a pagar por hacer mal las cosas. El sobre esfuerzo a pagar para mantener un producto mal hecho.\n \nVER VIDEO \n
DTSTART:20210223T193000
DTEND:20210223T203000
DTSTAMP:20260419T131712Z
LOCATION:Online
PRIORITY:5
SEQUENCE:0
SUMMARY;LANGUAGE=es-es:Tecnowebinars.com - :: Consejos para la Gestión de Proyectos hoy. Según Jorge Sánchez.
TRANSP:OPAQUE
UID:56f266390377302372002fcb4c37c0bf Tecnowebinars.com
X-MICROSOFT-CDO-BUSYSTATUS:BUSY
X-MICROSOFT-CDO-IMPORTANCE:1
X-MICROSOFT-DISALLOW-COUNTER:FALSE
X-MS-OLK-ALLOWEXTERNCHECK:TRUE
X-MS-OLK-AUTOFILLLOCATION:FALSE
X-MS-OLK-CONFTYPE:0
BEGIN:VALARM
TRIGGER:-PT1440M
ACTION:DISPLAY
DESCRIPTION:Reminder
END:VALARM
END:VEVENT
END:VCALENDAR
