BEGIN:VCALENDAR
PRODID:-//Microsoft Corporation//Outlook 12.0 MIMEDIR//EN
VERSION:2.0
METHOD:PUBLISH
X-MS-OLK-FORCEINSPECTOROPEN:TRUE
BEGIN:VEVENT
CLASS:PUBLIC
CREATED:20260419T131712Z
DESCRIPTION:Webinar sobre las principales novedades y funcionalidades de SAP Business One V.10.\n \nEn este webinar se abordarán las siguientes cuestiones:\n \n- Digitalización¿Cómo transformar una empresa tradicional a híbrida digital?\n- Beneficios clave del software de gestión empresarial.\n- El mejor Business Intelligence: Power BI Kiwi paquete de análisis empresarial que permite visualizar los datos y compartir información con toda la organización.\n- Todas las soluciones de gestión de empresa que tenemos disponibles con SAP (CloudXpenses para notas de gastos, Digital Docs para digitalizar tus facturas, Catalog One para comerciales, Pipe,  Logistic One para almacenes y muchas más)\n
DTSTART:20210218T110000
DTEND:20210218T120000
DTSTAMP:20260419T131712Z
LOCATION:Online
PRIORITY:5
SEQUENCE:0
SUMMARY;LANGUAGE=es-es:Tecnowebinars.com - :: SAP Business One v10: Intro, demo y software complementario
TRANSP:OPAQUE
UID:16231c1cbf476ac57dbebe6b55068d9c Tecnowebinars.com
X-MICROSOFT-CDO-BUSYSTATUS:BUSY
X-MICROSOFT-CDO-IMPORTANCE:1
X-MICROSOFT-DISALLOW-COUNTER:FALSE
X-MS-OLK-ALLOWEXTERNCHECK:TRUE
X-MS-OLK-AUTOFILLLOCATION:FALSE
X-MS-OLK-CONFTYPE:0
BEGIN:VALARM
TRIGGER:-PT1440M
ACTION:DISPLAY
DESCRIPTION:Reminder
END:VALARM
END:VEVENT
END:VCALENDAR
