BEGIN:VCALENDAR
PRODID:-//Microsoft Corporation//Outlook 12.0 MIMEDIR//EN
VERSION:2.0
METHOD:PUBLISH
X-MS-OLK-FORCEINSPECTOROPEN:TRUE
BEGIN:VEVENT
CLASS:PUBLIC
CREATED:20260419T131444Z
DESCRIPTION:VER VIDEO \n \nEn el trabajo manual característico de la era industrial, la clave fue la mejora de la productividad, es decir, la mejora de la eficiencia. Los avances que han tenido lugar en materia de productividad en las últimas décadas son los que han permitido alcanzar, en poco más de medio siglo, los niveles actuales de desarrollo económico y social.\n \nSin embargo, en el trabajo del conocimiento, la clave es la mejora de la efectividad, pero sabemos diferenciar Eficacia, Eficiencia y Efectividad\n \nVER VIDEO\n
DTSTART:20210216T193000
DTEND:20210216T203000
DTSTAMP:20260419T131444Z
LOCATION:Online
PRIORITY:5
SEQUENCE:0
SUMMARY;LANGUAGE=es-es:Tecnowebinars.com - :: Optimiza y adapta tu esfuerzo en un entorno VUCA
TRANSP:OPAQUE
UID:50269905955fc0fa001949aac2bd10fa Tecnowebinars.com
X-MICROSOFT-CDO-BUSYSTATUS:BUSY
X-MICROSOFT-CDO-IMPORTANCE:1
X-MICROSOFT-DISALLOW-COUNTER:FALSE
X-MS-OLK-ALLOWEXTERNCHECK:TRUE
X-MS-OLK-AUTOFILLLOCATION:FALSE
X-MS-OLK-CONFTYPE:0
BEGIN:VALARM
TRIGGER:-PT1440M
ACTION:DISPLAY
DESCRIPTION:Reminder
END:VALARM
END:VEVENT
END:VCALENDAR
