BEGIN:VCALENDAR
PRODID:-//Microsoft Corporation//Outlook 12.0 MIMEDIR//EN
VERSION:2.0
METHOD:PUBLISH
X-MS-OLK-FORCEINSPECTOROPEN:TRUE
BEGIN:VEVENT
CLASS:PUBLIC
CREATED:20260419T114208Z
DESCRIPTION:By experts for experts: The embedded world 2021 DIGITAL is where specialists gather to share knowledge at a virtual level. International exhibitors from around the world will present their products, new developments and solutions around the topics Internet-of-Things, hardware, software and systems engineering, safety and security, system-on-chip design, embedded vision, human-machine interaction, wired and wireless data transfer, or autonomous systems, and provide an opportunity for dialogue on an equal footing.\n
DTSTART:20210301T140000
DTEND:20210301T200000
DTSTAMP:20260419T114208Z
LOCATION:Online
PRIORITY:5
SEQUENCE:0
SUMMARY;LANGUAGE=es-es:Tecnowebinars.com - :: Embedded world 2021 DIGITAL
TRANSP:OPAQUE
UID:581beedf5c1342dd0dce06dbb0b46527 Tecnowebinars.com
X-MICROSOFT-CDO-BUSYSTATUS:BUSY
X-MICROSOFT-CDO-IMPORTANCE:1
X-MICROSOFT-DISALLOW-COUNTER:FALSE
X-MS-OLK-ALLOWEXTERNCHECK:TRUE
X-MS-OLK-AUTOFILLLOCATION:FALSE
X-MS-OLK-CONFTYPE:0
BEGIN:VALARM
TRIGGER:-PT1440M
ACTION:DISPLAY
DESCRIPTION:Reminder
END:VALARM
END:VEVENT
END:VCALENDAR
