BEGIN:VCALENDAR
PRODID:-//Microsoft Corporation//Outlook 12.0 MIMEDIR//EN
VERSION:2.0
METHOD:PUBLISH
X-MS-OLK-FORCEINSPECTOROPEN:TRUE
BEGIN:VEVENT
CLASS:PUBLIC
CREATED:20260419T114208Z
DESCRIPTION:Las redes de ciberdelincuencia están aprovechando la rápida digitalización del puesto de trabajo y de los procesos durante la pandemia, para detectar vulnerabilidades y utilizar nuevas técnicas. Mantenerse al día de las nuevas tecnologías y colaborar con socios especializados en seguridad gestionada es clave para afrontar este gran reto de grandes y pequeñas organizaciones.\nDurante estas jornadas podrá conocer la experiencia de Responsables de tecnología en grandes organizaciones del sector público y privado, así como la visión de fabricantes, integradores y proveedores de servicios gestionados que forman parte de la Asociación @aslan.\n \nMesas redondas y conferencias sobre:\n \nNUEVOS RETOS Y CAMBIOS DE PARADIGMA GRACIAS A LA SEGURIDAD GESTIONADA\n \n
DTSTART:20210309T100000
DTEND:20210309T140000
DTSTAMP:20260419T114208Z
LOCATION:Online
PRIORITY:5
SEQUENCE:0
SUMMARY;LANGUAGE=es-es:Tecnowebinars.com - :: Foro Tendencias Tecnológicas Cybersecurity Live!
TRANSP:OPAQUE
UID:31c82b4c06546478bda63bed7f8e5e2b Tecnowebinars.com
X-MICROSOFT-CDO-BUSYSTATUS:BUSY
X-MICROSOFT-CDO-IMPORTANCE:1
X-MICROSOFT-DISALLOW-COUNTER:FALSE
X-MS-OLK-ALLOWEXTERNCHECK:TRUE
X-MS-OLK-AUTOFILLLOCATION:FALSE
X-MS-OLK-CONFTYPE:0
BEGIN:VALARM
TRIGGER:-PT1440M
ACTION:DISPLAY
DESCRIPTION:Reminder
END:VALARM
END:VEVENT
END:VCALENDAR
