BEGIN:VCALENDAR
PRODID:-//Microsoft Corporation//Outlook 12.0 MIMEDIR//EN
VERSION:2.0
METHOD:PUBLISH
X-MS-OLK-FORCEINSPECTOROPEN:TRUE
BEGIN:VEVENT
CLASS:PUBLIC
CREATED:20260419T114208Z
DESCRIPTION:Join The Data Cloud Tour for Healthcare and Life Sciences virtual event to discover how the Snowflake platform can help your organisation power the next wave of healthcare innovation.\nMobilise and securely exchange health data to eliminate data silos, generate value from historical and real-time information, and deliver richer insights to internal and external data consumers.\n \nYou’ll hear from a Snowflake customer and get an in-depth look into our platform’s newest features and capabilities during the technical workshop and healthcare demo.\n \nAgenda:\nSession Details\n9:30 - 9:50 AM GMT\nIntroduction to the Data Cloud\n9:50 - 10:05 AM GMT\nThe Data Cloud for Healthcare and Life Sciences\n10:05 - 10:30 AM GMT\nCustomer Case Study\n10:30 - 11:00 AM GMT\nTechnical Workshop: Inside the Snowflake Platform\n11:00 AM - 11:30 AM GMT\nSnowflake Healthcare and Life Sciences Demo\n
DTSTART:20210316T103000
DTEND:20210316T113000
DTSTAMP:20260419T114208Z
LOCATION:Online
PRIORITY:5
SEQUENCE:0
SUMMARY;LANGUAGE=es-es:Tecnowebinars.com - :: Data lake y analítica en Salud y "Life Sciences" con Snowflake
TRANSP:OPAQUE
UID:e3b67d1629e19bb811b71295c859227e Tecnowebinars.com
X-MICROSOFT-CDO-BUSYSTATUS:BUSY
X-MICROSOFT-CDO-IMPORTANCE:1
X-MICROSOFT-DISALLOW-COUNTER:FALSE
X-MS-OLK-ALLOWEXTERNCHECK:TRUE
X-MS-OLK-AUTOFILLLOCATION:FALSE
X-MS-OLK-CONFTYPE:0
BEGIN:VALARM
TRIGGER:-PT1440M
ACTION:DISPLAY
DESCRIPTION:Reminder
END:VALARM
END:VEVENT
END:VCALENDAR
