BEGIN:VCALENDAR
PRODID:-//Microsoft Corporation//Outlook 12.0 MIMEDIR//EN
VERSION:2.0
METHOD:PUBLISH
X-MS-OLK-FORCEINSPECTOROPEN:TRUE
BEGIN:VEVENT
CLASS:PUBLIC
CREATED:20260419T131445Z
DESCRIPTION:Desde su lanzamiento, Dynamics 365 Business Central ha sido la opción elegida por un gran número de organizaciones que buscaban transformar digitalmente sus negocios.\nDescubre en esta sesión:\n \nLas nuevas características de productividad y las últimas novedades en cuanto al rendimiento, la fiabilidad, la compatibilidad y la seguridad que se han implementado en la solución\nCómo trabajar de forma más rápida y más inteligente a través de la automatización de los flujos de trabajo y los procesos\nCómo optimizar la gestión financiera, acelerar los procesos de venta e impulsar la cadena de suministro\nLos principales beneficios por los que migrar de Dynamics NAV (Navision) a Dynamics 365 Business Central\nLas múltiples ventajas de su interacción con Power BI y con Microsoft 365 (Office 365)\n
DTSTART:20210224T100000
DTEND:20210224T110000
DTSTAMP:20260419T131445Z
LOCATION:Online
PRIORITY:5
SEQUENCE:0
SUMMARY;LANGUAGE=es-es:Tecnowebinars.com - :: Novedades en Microsofts Dynamics 365 Business Central
TRANSP:OPAQUE
UID:89d3960ebedb95db19c7aea10ea7bda0 Tecnowebinars.com
X-MICROSOFT-CDO-BUSYSTATUS:BUSY
X-MICROSOFT-CDO-IMPORTANCE:1
X-MICROSOFT-DISALLOW-COUNTER:FALSE
X-MS-OLK-ALLOWEXTERNCHECK:TRUE
X-MS-OLK-AUTOFILLLOCATION:FALSE
X-MS-OLK-CONFTYPE:0
BEGIN:VALARM
TRIGGER:-PT1440M
ACTION:DISPLAY
DESCRIPTION:Reminder
END:VALARM
END:VEVENT
END:VCALENDAR
