BEGIN:VCALENDAR
PRODID:-//Microsoft Corporation//Outlook 12.0 MIMEDIR//EN
VERSION:2.0
METHOD:PUBLISH
X-MS-OLK-FORCEINSPECTOROPEN:TRUE
BEGIN:VEVENT
CLASS:PUBLIC
CREATED:20260419T130636Z
DESCRIPTION:Data is fragmented and either too deep or too incomplete to make sense of it in time before the world moves on and business gets behind affecting supply chains and creating risk.\n \nSupply chain continuity depends on data, leadership and making sure you have enough flexibility to move resource when and where it is needed at the drop of a hat. \n \nJoin us on February 10th at 11AM EST, alongside seasoned supply chain professionals who have seen it all and are ready to share and explore the best strategies when it comes to data driven decision making, network design and data infrastructure\n \nKey Talking Points:\n \n• The Cost of Quality Data: Determine the ROI of developing a fully standardized and digitized process across suppliers\n \n• The Race To The Consumer: Understand the bottlenecks in the business strategy and use data to identify the causes, be they related to tech, labor or process.\n \n• Visibility Across The Value Chain: Learn how to maximize visibility and efficiency across the value chain by rethinking outdated processes such as paperless invoicing.\n \nPanel Includes:\n• Bill Mines - SVP Finance & Strategy, Supply Chain and Logistics at Walmart\n• Luca Suriano - Global VP, Apparel Sourcing at Under Armour\n• Brian Hecht - Supply Chain Strategist at Kroger\n• Nick Hunt - Enterprise Account Director at Tradeshift\n• Prabhu Chandrasekhar - Director of Data Foundation, Management, Integration, Enterprise Data and Analytics at Advance Auto Parts\n
DTSTART:20210210T170000
DTEND:20210210T180000
DTSTAMP:20260419T130636Z
LOCATION:Online
PRIORITY:5
SEQUENCE:0
SUMMARY;LANGUAGE=es-es:Tecnowebinars.com - :: Retail Supply Chain Continuity: The Foundations of Data Driven Decision Making
TRANSP:OPAQUE
UID:fffe1cbe260bbe349817ae695f317cba Tecnowebinars.com
X-MICROSOFT-CDO-BUSYSTATUS:BUSY
X-MICROSOFT-CDO-IMPORTANCE:1
X-MICROSOFT-DISALLOW-COUNTER:FALSE
X-MS-OLK-ALLOWEXTERNCHECK:TRUE
X-MS-OLK-AUTOFILLLOCATION:FALSE
X-MS-OLK-CONFTYPE:0
BEGIN:VALARM
TRIGGER:-PT1440M
ACTION:DISPLAY
DESCRIPTION:Reminder
END:VALARM
END:VEVENT
END:VCALENDAR
