BEGIN:VCALENDAR
PRODID:-//Microsoft Corporation//Outlook 12.0 MIMEDIR//EN
VERSION:2.0
METHOD:PUBLISH
X-MS-OLK-FORCEINSPECTOROPEN:TRUE
BEGIN:VEVENT
CLASS:PUBLIC
CREATED:20260419T131558Z
DESCRIPTION:Market data in the cloud is an attractive proposition in terms of reducing the cost of on premise servers and storage, and moving into a more agile and flexible data delivery environment. It is also well suited to working from home, the fall-back of many financial institutions during lockdowns caused by the coronavirus pandemic.\nBut there are caveats and challenges as cloud services cannot yet, and may never, meet the performance levels of firms receiving market data directly from a trading venue into a collocated server. Similarly, high-frequency trading firms with platforms requiring microsecond-level data delivery won’t be moving to the cloud any time soon.\n \nThe challenges for firms considering moving market data to the cloud include deciphering whether a mix of public and private cloud, or perhaps a hybrid solution best fits their needs. They must also fathom out what data types can be successfully migrated to a cloud or hybrid environment.\n \nRegister for the webinar to find out about:\nApproaches to moving market data to cloud successfully\nThe mix of cloud options available to meet your needs\nWhich types of market data are best suited to cloud delivery\nCloud technologies and tools supporting market data distribution\nHow to push market data delivery performance to the limit\n \nSpeakers:\nRichard Croucher, Distinguished Engineer, VP – Global Head of Engineering, Specialised Infrastructure, Barclays\nPeter Williams, Chief Technology Officer, CJC\nMatthew Lempriere, Head of UK, Middle East & Asia Pacific, BSO\nMark Etherington, Chief Technology Officer, Crux Informatics\nModerator: Andrew Delaney, Chief Content Officer, A-Team Group\n
DTSTART:20210225T160000
DTEND:20210225T170000
DTSTAMP:20260419T131558Z
LOCATION:Online
PRIORITY:5
SEQUENCE:0
SUMMARY;LANGUAGE=es-es:Tecnowebinars.com - :: Approaches to migrating market data to the cloud to drive agility in trading operations
TRANSP:OPAQUE
UID:4774d456b2d0137c16f7c83b36a75750 Tecnowebinars.com
X-MICROSOFT-CDO-BUSYSTATUS:BUSY
X-MICROSOFT-CDO-IMPORTANCE:1
X-MICROSOFT-DISALLOW-COUNTER:FALSE
X-MS-OLK-ALLOWEXTERNCHECK:TRUE
X-MS-OLK-AUTOFILLLOCATION:FALSE
X-MS-OLK-CONFTYPE:0
BEGIN:VALARM
TRIGGER:-PT1440M
ACTION:DISPLAY
DESCRIPTION:Reminder
END:VALARM
END:VEVENT
END:VCALENDAR
