BEGIN:VCALENDAR
PRODID:-//Microsoft Corporation//Outlook 12.0 MIMEDIR//EN
VERSION:2.0
METHOD:PUBLISH
X-MS-OLK-FORCEINSPECTOROPEN:TRUE
BEGIN:VEVENT
CLASS:PUBLIC
CREATED:20260419T114301Z
DESCRIPTION:Ransomware protection. Threat hunting. Detection and response. Cybersecurity teams are adding new practices and capabilities to their cyber defense arsenals almost weekly. Do you know what you need to know about these emerging practices? Would you like to know more about how your peers are making these processes work?  \n \nJoin Dark Reading, the most trusted online community for security professionals, as we provide an in-depth look at the latest cybersecurity practices – and the technologies that facilitate them. Don't miss your opportunity to get a deeper look at the emerging wave of cyber defense practices and techniques being used by leading businesses and security teams.\n \nAttend and you'll learn:\nEmerging methods for integrating and orchestrating security systems, including SOAR and XDR \n \nNew strategies for employing artificial intelligence and machine learning to detect threats and compromises\n \nProcesses and tools for automating data analysis and incident response and making your security team more productive\n \nIf you'd like to know more about the coming wave of cybersecurity practices – and the technologies that support them – this virtual event is for you.\n
DTSTART:20210325T170000
DTEND:20210325T230000
DTSTAMP:20260419T114301Z
LOCATION:Online
PRIORITY:5
SEQUENCE:0
SUMMARY;LANGUAGE=es-es:Tecnowebinars.com - :: Cybersecurity's Next Wave: What Every Enterprise Should Know
TRANSP:OPAQUE
UID:c87a3a8d280c5327c8a6a53c496ec479 Tecnowebinars.com
X-MICROSOFT-CDO-BUSYSTATUS:BUSY
X-MICROSOFT-CDO-IMPORTANCE:1
X-MICROSOFT-DISALLOW-COUNTER:FALSE
X-MS-OLK-ALLOWEXTERNCHECK:TRUE
X-MS-OLK-AUTOFILLLOCATION:FALSE
X-MS-OLK-CONFTYPE:0
BEGIN:VALARM
TRIGGER:-PT1440M
ACTION:DISPLAY
DESCRIPTION:Reminder
END:VALARM
END:VEVENT
END:VCALENDAR
