BEGIN:VCALENDAR
PRODID:-//Microsoft Corporation//Outlook 12.0 MIMEDIR//EN
VERSION:2.0
METHOD:PUBLISH
X-MS-OLK-FORCEINSPECTOROPEN:TRUE
BEGIN:VEVENT
CLASS:PUBLIC
CREATED:20260419T130600Z
DESCRIPTION:VER VIDEO\nEl software CRM ForceManager te ayuda a digitalizar tu proceso comercial, mejorar la eficiencia y aumentar tus ventas de una manera mucho más fácil.\n¿Qué vas a aprender?\n \n1.Definición de la metodología de ventas eficiente y orientada a resultados\n2.Recogida de datos a través de formularios personalizados y visibilidad de tus oportunidades\n3.Campañas segmentadas sobre venta cruzada o renovación\n \nAgenda:\nPresentación: Sara Benslaiman, Directora de Seguros de ForceManager\nDemostración sobre el CRM ForceManager: David Fernández y Roger Galdón, Pre - Ventas de ForceManager\nCaso de éxito: Guillermo Nariño Gerente de canales presenciales de Seguros Bolívar \nPreguntas y respuestas\n \nVER VIDEO\n
DTSTART:20210211T170000
DTEND:20210211T180000
DTSTAMP:20260419T130600Z
LOCATION:Online
PRIORITY:5
SEQUENCE:0
SUMMARY;LANGUAGE=es-es:Tecnowebinars.com - :: CRM Forcemanager en Seguros Bolívar (Habla el cliente)
TRANSP:OPAQUE
UID:65e2071c3a5a0af24a56ae2d9a7004d8 Tecnowebinars.com
X-MICROSOFT-CDO-BUSYSTATUS:BUSY
X-MICROSOFT-CDO-IMPORTANCE:1
X-MICROSOFT-DISALLOW-COUNTER:FALSE
X-MS-OLK-ALLOWEXTERNCHECK:TRUE
X-MS-OLK-AUTOFILLLOCATION:FALSE
X-MS-OLK-CONFTYPE:0
BEGIN:VALARM
TRIGGER:-PT1440M
ACTION:DISPLAY
DESCRIPTION:Reminder
END:VALARM
END:VEVENT
END:VCALENDAR
