BEGIN:VCALENDAR
PRODID:-//Microsoft Corporation//Outlook 12.0 MIMEDIR//EN
VERSION:2.0
METHOD:PUBLISH
X-MS-OLK-FORCEINSPECTOROPEN:TRUE
BEGIN:VEVENT
CLASS:PUBLIC
CREATED:20260419T130553Z
DESCRIPTION: Are you having trouble reliably reading OCR codes on soft packages, etched metals, metal containers and bottles using traditional machine vision methods?\n \nDeep learning is a breakthrough technology that reads badly deformed, skewed, or poorly etched OCR codes on these surfaces even under the most challenging conditions.\n \nIn this 30-minute webinar, we will discuss:\n \n- Common OCR marking methods and code reading challenges\n- When to use deep learning versus traditional machine vision\n- How the deep learning-based OCR tool works\n- Many application examples\n- How to deploy a deep learning solution\n
DTSTART:20210211T110000
DTEND:20210211T120000
DTSTAMP:20260419T130553Z
LOCATION:Online
PRIORITY:5
SEQUENCE:0
SUMMARY;LANGUAGE=es-es:Tecnowebinars.com - :: Lectura de código de barras complejas con Deep Learning en visión artificial
TRANSP:OPAQUE
UID:459d56ad136971a7887a615e872fc997 Tecnowebinars.com
X-MICROSOFT-CDO-BUSYSTATUS:BUSY
X-MICROSOFT-CDO-IMPORTANCE:1
X-MICROSOFT-DISALLOW-COUNTER:FALSE
X-MS-OLK-ALLOWEXTERNCHECK:TRUE
X-MS-OLK-AUTOFILLLOCATION:FALSE
X-MS-OLK-CONFTYPE:0
BEGIN:VALARM
TRIGGER:-PT1440M
ACTION:DISPLAY
DESCRIPTION:Reminder
END:VALARM
END:VEVENT
END:VCALENDAR
