BEGIN:VCALENDAR
PRODID:-//Microsoft Corporation//Outlook 12.0 MIMEDIR//EN
VERSION:2.0
METHOD:PUBLISH
X-MS-OLK-FORCEINSPECTOROPEN:TRUE
BEGIN:VEVENT
CLASS:PUBLIC
CREATED:20260419T115342Z
DESCRIPTION:VER VIDEO\n \nBienvenidos a un webminar donde analizaremos las posibilidades de la Realidad Aumentada. ¿Dónde está esta tecnología y qué previsiones hay de uso y aplicación a nivel industrial?\n \nHaremos un repaso de las posibilidades de la Realidad Aumentada, una tecnología que estará instalada en más de 2.500 millones de dispositivos móviles + dispositivos específicos (fuente: Digi-Capital AR/VR Analytics).\n \nEn la charla, veremos de una forma amena el alcance de la Realidad Virtual, algunos hitos de hardware, experiencias de software aplicado a las empresas… porque esta tecnología ha venido para quedarse y seguir evolucionando. No la puedes ignorar.\n \nAl finalizar el webinar abriremos una sala de networking donde se pueden establecer video conferencias con los asistentes que quieras. Pueden hacerse grupos de hasta 15 personas, pero también pueden hablar 2, 3... los que se quieran. Es un momento perfecto para tomarse una cerveza virtual, charlar y hacer contactos. \n \n VER VIDEO\n
DTSTART:20210303T160000
DTEND:20210303T170000
DTSTAMP:20260419T115342Z
LOCATION:Online
PRIORITY:5
SEQUENCE:0
SUMMARY;LANGUAGE=es-es:Tecnowebinars.com - :: Realidad Aumentada en la empresa: Casos de uso y tendencias
TRANSP:OPAQUE
UID:6012e648433ca43f61fd53b60aa046bf Tecnowebinars.com
X-MICROSOFT-CDO-BUSYSTATUS:BUSY
X-MICROSOFT-CDO-IMPORTANCE:1
X-MICROSOFT-DISALLOW-COUNTER:FALSE
X-MS-OLK-ALLOWEXTERNCHECK:TRUE
X-MS-OLK-AUTOFILLLOCATION:FALSE
X-MS-OLK-CONFTYPE:0
BEGIN:VALARM
TRIGGER:-PT1440M
ACTION:DISPLAY
DESCRIPTION:Reminder
END:VALARM
END:VEVENT
END:VCALENDAR
